BEGIN:VCALENDAR
PRODID:NingEventWidget-v1
VERSION:2.0
METHOD:PUBLISH
BEGIN:VEVENT
UID:2197786:Event:42280
DTSTAMP:20260425T072342Z
SUMMARY:The Rich Web Experience
DESCRIPTION:\n\nJoin us for RWX 2012\nWe are pleased to announceÂ The 
 Rich Web ExperienceÂ /Â Continuous Delivery ExperienceÂ will return to
  November 27 - 30, 2012. RWX / CDX 2012 will be held at theÂ Westin Fo
 rt Lauderdale Beach Resort.\nNo Fluff Just StuffÂ is pleased to announ
 ceÂ The 2012 Rich Web Experience.\nRWX 2012Â will cover the hot areas 
 of interest in the web space today:Â HTML5, CSS3, JavaScript, Ajax Lib
 raries, jQuery, Semantic Web, iPhone, Android, Netty, Dojo, CoffeeScri
 pt, Solr, Node.js, Security, Semantic Web, NoSQL (Neo4J & MongoDB),and
  more. RWX 2012 will feature 8 parallel tracks with 40 speakers and 12
 0 technical sessions/workshops. At RWX 2012 you will interact with ind
 ustry experts, project leads, authors, and top developers.\nFront-end 
 development practices continue to evolve at a frantic pace.Â RWX 2012Â
  will help you stay up-to-speed with the latestÂ tools, frameworks, us
 ability, and development practices. Our speakers are opensource leader
 s, project committers, published authors, and professional trainers. W
 e are excited to make them available to you!\nIf you are ready to take
  your web skills to the next level, join us in Fort Lauderdale. All In
 clusive Package available - registration pass, airfare and lodging!\nT
 wo Great Events\nThe Rich Web Experience will be held in conjunction w
 ithÂ The Continuous Delivery Experience.Â CDXÂ will focus on automatio
 n techniques used to create better software for the Java Platform. CDX
  is your opportunity to learn from automation experts; covering Contin
 uous Delivery, Cloud, Jenkins, Sonar, Chef, Puppet and Gradle projects
 . Your pass to The Rich Web Experience includes access to The Continuo
 us Delivery Experience.\nRWX / CDX is Going Paperless with iPads\n\nNe
 w for 2012, RWX / CDX is going paperless! As an attendee, you will be 
 issued an iPad to use during the conference. The iPad will come preloa
 ded with event content and the NFJS iPad application.\nThis app will h
 elp you browse sessions, plan your itinerary, view slides, take notes,
  evaluate sessions, submit feedback, and submit questions to speakers.
 \nIf you have an iPad, please bring it andÂ be sure to load content be
 fore you arrive at the hotel. Our app is available on theÂ app store.\
 n\n\nFor more information visit https://codetown.com/events/the-rich-w
 eb-experience-1
DTSTART:20121127T050000Z
DTEND:20121201T045900Z
CATEGORIES:conference
LOCATION:Westin Fort Lauderdale, FL
WEBSITE:http://therichwebexperience.com/
URL:http://therichwebexperience.com/
CONTACT:
ORGANIZER:Jay Zimmerman and the No Fluff Just Stuff staff
ATTACH;FMTTYPE="image/jpeg":http://storage.ning.com/topology/rest/1.0/
 file/get/2006947978?profile=original
ATTENDEE;ROLE=REQ-PARTICIPANT;PARTSTAT=TENTATIVE;RSVP=TRUE;CN="Michael
  Levin":https://codetown.com/profile/MichaelLevin
END:VEVENT
END:VCALENDAR
