BEGIN:VCALENDAR
PRODID:NingEventWidget-v1
VERSION:2.0
METHOD:PUBLISH
BEGIN:VEVENT
UID:2197786:Event:42296
DTSTAMP:20260424T174319Z
SUMMARY:Tampa Bay Barcamp
DESCRIPTION:\n\n\n\n\n\nFor more information visit https://codetown.co
 m/events/tampa-bay-barcamp
DTSTART:20121013T113000Z
DTEND:20121013T213000Z
CATEGORIES:barcamp
LOCATION:USF College of Business
WEBSITE:http://barcamptampabay.org/
URL:http://barcamptampabay.org/
CONTACT:(813) 974-4281
ORGANIZER:The Florida .Net Community and Technology Communities Tampa 
 Bay, Inc.
ATTACH;FMTTYPE="image/jpeg":http://storage.ning.com/topology/rest/1.0/
 file/get/2006947754?profile=original
ATTENDEE;ROLE=REQ-PARTICIPANT;PARTSTAT=TENTATIVE;RSVP=TRUE;CN="Michael
  Levin":https://codetown.com/profile/MichaelLevin
END:VEVENT
END:VCALENDAR
