BEGIN:VCALENDAR
PRODID:NingEventWidget-v1
VERSION:2.0
METHOD:PUBLISH
BEGIN:VEVENT
UID:2197786:Event:53905
DTSTAMP:20260422T130304Z
SUMMARY:Steve Wozniak “Innovation and Technology: Pioneering Work wi
 th Apple and the Future of Information Technology”
DESCRIPTION:Steve Wozniak, co-founder of Apple, Inc., will be speaking
  at UNF on “Innovation and Technology: Pioneering Work with Apple an
 d the Future of Information Technology.” This lecture will take plac
 e at 7 p.m. Tuesday, Feb. 2, 2016, in the UNF Arena.\n\n\n \nStuden
 ts and the general public can order free e-tickets here: https://www.
 unf.edu/lectures/.\n \n Email sherry.hay@unf.edu if you have any q
 uestions.\n\nFor more information visit https://codetown.com/events/st
 eve-wozniak-innovation-and-technology-pioneering-work-with-appl
DTSTART:20160203T000000Z
DTEND:20160203T020000Z
CATEGORIES:talk
LOCATION:UNF Arena
WEBSITE:https://www.unf.edu/lectures/
URL:https://www.unf.edu/lectures/
CONTACT:sherry.hay@unf.edu
ORGANIZER:Sherry Hay / UNF
ATTACH;FMTTYPE="image/jpeg":http://storage.ning.com/topology/rest/1.0/
 file/get/2006956437?profile=original
ATTENDEE;ROLE=REQ-PARTICIPANT;PARTSTAT=ACCEPTED;RSVP=TRUE;CN="Michael 
 Levin":https://codetown.com/profile/MichaelLevin
END:VEVENT
END:VCALENDAR
