BEGIN:VCALENDAR
PRODID:NingEventWidget-v1
VERSION:2.0
METHOD:PUBLISH
BEGIN:VEVENT
UID:2197786:Event:52028
DTSTAMP:20260424T080600Z
SUMMARY:SG Conference & Expo
DESCRIPTION:En SG Conference & Expo los profesionistas de software de 
 alto desempeÃ±o en MÃ©xico se encuentran para conocer tendencias, comp
 artir experiencias y renovar su motivaciÃ³n para seguir creando softwa
 re grandioso.\nLa ediciÃ³n 2015 de SGCE se realizarÃ¡ elÂ 1 y 2 de jul
 ioÂ en la Ciudad de MÃ©xico.\nHere's a classy Google translation: SG C
 onference & Expo in the software professionals of high performance in 
 Mexico are for trends, share experiences and renew their motivation to
  continue creating great software.\nSGCE 2015 edition will be held onÂ
  1 and July 2Â in Mexico City.\n\nYou know what we mean! Come on, have
  some fun and learn a lot in beautiful, historic Mexico City.\n\nThis 
 event is sponsored by Software Gurus, the leading media source in Lati
 n America. Check them out here:Â http://sg.com.mx/about-sg-software-gu
 ru\n\nFor more information visit https://codetown.com/events/sg-confer
 ence-expo
DTSTART:20150701T040000Z
DTEND:20150703T035900Z
CATEGORIES:conference
LOCATION:Mexico City
WEBSITE:http://sg.com.mx/sgce
URL:http://sg.com.mx/sgce
CONTACT:
ORGANIZER:http://sg.com.mx/
ATTACH;FMTTYPE="image/jpeg":http://storage.ning.com/topology/rest/1.0/
 file/get/2006953324?profile=original
ATTENDEE;ROLE=REQ-PARTICIPANT;PARTSTAT=TENTATIVE;RSVP=TRUE;CN="Michael
  Levin":https://codetown.com/profile/MichaelLevin
END:VEVENT
END:VCALENDAR
