BEGIN:VCALENDAR
PRODID:NingEventWidget-v1
VERSION:2.0
METHOD:PUBLISH
BEGIN:VEVENT
UID:2197786:Event:57187
DTSTAMP:20260425T113145Z
SUMMARY:Re:publica
DESCRIPTION:\r\n\r\nre:publica is one of the largest and most excitin
 g conferences about digital culture in the world. Since its foundation
  in 2007, it has grown from a cozy blogger meeting with 700 participa
 nts into a wide-ranging “society conference”, with 9.000 visitor
 s at the eleventh edition of re:publica. Representatives of digital 
 culture share their knowledge and decision-making tools, and discuss t
 he future of the information society. Here they can mingle with activi
 sts, scientists, hackers, entrepreneurs, NGOs, journalists, social med
 ia and marketing experts, and many others. This fosters innovation and
  creates synergies between net politics, online marketing, network tec
 hnology, digital society, and (pop) culture. What is more, around 46
 percent of re:publica speakers are female – far more than at m
 any other similar events.\n\nFor more information visit https://codeto
 wn.com/events/re-publica
DTSTART:20170907T040000Z
DTEND:20170909T035900Z
CATEGORIES:conference
LOCATION:Dublin and Thessaloniki
WEBSITE:https://re-publica.com/
URL:https://re-publica.com/
CONTACT:
ORGANIZER:https://re-publica.com
ATTACH;FMTTYPE="image/jpeg":http://storage.ning.com/topology/rest/1.0/
 file/get/2006958857?profile=original
ATTENDEE;ROLE=REQ-PARTICIPANT;PARTSTAT=ACCEPTED;RSVP=TRUE;CN="Michael 
 Levin":https://codetown.com/profile/MichaelLevin
END:VEVENT
END:VCALENDAR
