BEGIN:VCALENDAR
PRODID:NingEventWidget-v1
VERSION:2.0
METHOD:PUBLISH
BEGIN:VEVENT
UID:2197786:Event:56111
DTSTAMP:20260423T211615Z
SUMMARY:OSCON
DESCRIPTION:OSCON is... the O'Reilly Open Source Conference. Of course
 !\n\nOpen source is everywhere—from the bottom of the programming st
 ack to the top. OSCON brings the software engineering and developer co
 mmunity together to explore what's new and useful in open source langu
 ages, tools, and techniques. It's the best place to sharpen your skill
 s and discover important trends, making you better at what you do and 
 igniting your love of code.\n\n\n\n\nFor more information visit https:
 //codetown.com/events/oscon-5
DTSTART:20170508T040000Z
DTEND:20170512T035900Z
CATEGORIES:conference
LOCATION:Austin Convention Center
WEBSITE:https://conferences.oreilly.com/oscon/oscon-tx
URL:https://conferences.oreilly.com/oscon/oscon-tx
CONTACT:oscon@oreilly.com
ORGANIZER:O'Reilly and Associates
ATTACH;FMTTYPE="image/jpeg":http://storage.ning.com/topology/rest/1.0/
 file/get/2006958455?profile=original
ATTENDEE;ROLE=REQ-PARTICIPANT;PARTSTAT=ACCEPTED;RSVP=TRUE;CN="Michael 
 Levin":https://codetown.com/profile/MichaelLevin
END:VEVENT
END:VCALENDAR
