BEGIN:VCALENDAR
PRODID:NingEventWidget-v1
VERSION:2.0
METHOD:PUBLISH
BEGIN:VEVENT
UID:2197786:Event:60396
DTSTAMP:20260421T192436Z
SUMMARY:OSCON 2018
DESCRIPTION:Join us at OSCON -- O'Reilly Open Source Convention | Ju
 ly 16–19,2018 | Portland, Oregon OSCON brings together talented peo
 ple from diverse backgrounds who are doing amazing things with open so
 urce technologies. Explore the latest tools and technologies, get expe
 rt in-depth training in crucial languages, frameworks, and best practi
 ces, and get exposure to the open source stack in all possible configu
 rations. Whether you're improving your command of a language, explorin
 g new technologies, or getting tips to enhance your productivity, your
  time at OSCON will make you better at what you do. Because we are par
 ticipating, you can save 20% on your pass with discount code USRG.\r\n
 Link: http://www.oreilly.com/pub/cpc/150496\n\nFor more information v
 isit https://codetown.com/events/oscon-2018
DTSTART:20180716T040000Z
DTEND:20180720T035900Z
CATEGORIES:conference
LOCATION:Oregon Convention Center
WEBSITE:http://www.oreilly.com/pub/cpc/150496
URL:http://www.oreilly.com/pub/cpc/150496
CONTACT:
ORGANIZER:O'Reilly
ATTACH;FMTTYPE="image/jpeg":http://storage.ning.com/topology/rest/1.0/
 file/get/2006961290?profile=original
ATTENDEE;ROLE=REQ-PARTICIPANT;PARTSTAT=TENTATIVE;RSVP=TRUE;CN="Michael
  Levin":https://codetown.com/profile/MichaelLevin
END:VEVENT
END:VCALENDAR
