BEGIN:VCALENDAR
PRODID:NingEventWidget-v1
VERSION:2.0
METHOD:PUBLISH
BEGIN:VEVENT
UID:2197786:Event:40149
DTSTAMP:20260425T062229Z
SUMMARY:OrlandoJUG
DESCRIPTION:Hello OrlandoJUG!\n\nTonight is our monthly OJUG meeting. 
 I'm just back from a very exciting conference called OSCON - the O'Rei
 lly Open Source Conference in Portland, OR. \n\nI'm going to go over 
 what I learned at OSCON tonight and hit on some current trends I becam
 e aware of at the conference. \nThere were thousands of people at the
  conference. Plus, there were about 10 tracks which equated to 10 talk
 s per hour, 8 hours a day for 5 days! Overwhelming? Nah - it was excit
 ing and a bunch of fun. I learned so much about current trends in comp
 uting. And, the after-events - the BOF's (birds of a feather sessions)
  and the mixers were informative, as well.\nI made lots of new contact
 s, learned enough to keep my grey matter hopping for a long time, and 
 can't wait to convey all I can to you. \nSo, please RSVP so I'll know
  how much pizza to order - I look forward to seeing many of you tonigh
 t. And, please don't hesitate to invite our friends and colleagues. \
 nAll the best,\nMichael Levin\nChairman, OrlandoJUG\n\nFor more inform
 ation visit https://codetown.com/events/orlandojug
DTSTART:20120726T220000Z
DTEND:20120727T010000Z
CATEGORIES:meeting
LOCATION:DeVry University, Room 114
WEBSITE:
URL:
CONTACT:Skype mlevin77 (rolls over to my cellphone after 10 rings!)
ORGANIZER;CN="Michael Levin":https://codetown.com/profile/MichaelLevin
ATTACH;FMTTYPE="image/jpeg":http://storage.ning.com/topology/rest/1.0/
 file/get/2006946606?profile=original
ATTENDEE;ROLE=REQ-PARTICIPANT;PARTSTAT=ACCEPTED;RSVP=TRUE;CN="Prakhar 
 Agrawal":https://codetown.com/profile/PrakharAgrawal
ATTENDEE;ROLE=REQ-PARTICIPANT;PARTSTAT=ACCEPTED;RSVP=TRUE;CN="Matt Dre
 es":https://codetown.com/profile/MattDrees
ATTENDEE;ROLE=REQ-PARTICIPANT;PARTSTAT=ACCEPTED;RSVP=TRUE;CN="Jack E. 
 Korner":https://codetown.com/profile/JackEKorner
ATTENDEE;ROLE=REQ-PARTICIPANT;PARTSTAT=ACCEPTED;RSVP=TRUE;CN="Michael 
 Levin":https://codetown.com/profile/MichaelLevin
END:VEVENT
END:VCALENDAR
