BEGIN:VCALENDAR
PRODID:NingEventWidget-v1
VERSION:2.0
METHOD:PUBLISH
BEGIN:VEVENT
UID:2197786:Event:52772
DTSTAMP:20260421T075124Z
SUMMARY:OrlandoJUG  - Google Web Toolkit!
DESCRIPTION:This month we'll have a presentation on the Google Web Too
 lkit! Google Web Toolkit (GWT), used by Google internally on some of t
 heir biggest applications, is growing and quite good.Â  Learn about th
 e technology, and plans for GWT to become a singular development platf
 orm on web and beyond.\nSpeaker:\nEric Nissan\nCo-founder of www.diy.f
 und, an online investment platform\nRecently moved to Orlando, FL from
  NY, spent his career on wall street developing and managing technolog
 y for multi-billion dollar hedge funds.Â  Has been using Java most of 
 his career, and specifically GWT which he loves evangelizing.\n\nThis 
 meeting is sponsored by Cambridge ::: Working Software Developers :::Â
  www.cambridgeweb.ie\n\nFor more information visit https://codetown.co
 m/events/orlandojug-september-gwt
DTSTART:20150924T220000Z
DTEND:20150925T000000Z
CATEGORIES:meeting
LOCATION:Canvs
WEBSITE:http://www.canvs.org
URL:http://www.canvs.org
CONTACT:321-252-9322 @mikelevin @codetown
ORGANIZER;CN="Michael Levin":https://codetown.com/profile/MichaelLevin
ATTACH;FMTTYPE="image/jpeg":http://storage.ning.com/topology/rest/1.0/
 file/get/2006954845?profile=original
ATTENDEE;ROLE=REQ-PARTICIPANT;PARTSTAT=ACCEPTED;RSVP=TRUE;CN="Praveen 
 Seetharaman":https://codetown.com/profile/PraveenSeetharaman
ATTENDEE;ROLE=REQ-PARTICIPANT;PARTSTAT=ACCEPTED;RSVP=TRUE;CN="Colin Ar
 chibald":https://codetown.com/profile/ColinArchibald
ATTENDEE;ROLE=REQ-PARTICIPANT;PARTSTAT=ACCEPTED;RSVP=TRUE;CN=Vladimir:
 https://codetown.com/profile/Vladimir
ATTENDEE;ROLE=REQ-PARTICIPANT;PARTSTAT=ACCEPTED;RSVP=TRUE;CN="jimmy ba
 tra":https://codetown.com/profile/jimmybatra
ATTENDEE;ROLE=REQ-PARTICIPANT;PARTSTAT=ACCEPTED;RSVP=TRUE;CN="Michael 
 Levin":https://codetown.com/profile/MichaelLevin
ATTENDEE;ROLE=REQ-PARTICIPANT;PARTSTAT=TENTATIVE;RSVP=TRUE;CN="David H
 incapie":https://codetown.com/profile/DavidHincapie
END:VEVENT
END:VCALENDAR
