BEGIN:VCALENDAR
PRODID:NingEventWidget-v1
VERSION:2.0
METHOD:PUBLISH
BEGIN:VEVENT
UID:2197786:Event:60609
DTSTAMP:20260423T191437Z
SUMMARY:OrlandoJUG ::: Secrets of the Rockstar Programmers
DESCRIPTION: Hey, Gang: We have a special presenter this month. Ed Bur
 ns, author of Secrets of the Rock Star Programmers will be here to tal
 k about the interviews that make up this fabulous book. I'll be at JCr
 ete when we normally meet, so this meeting is 7/12, Thursday.  Please
  RSVP so we'll know how much food and bev to get. Thanks in advance to
  TekSystems for the pizza!\r\nAbstract\r\nHow in the world can I keep 
 up with all this information coming at me every day?\r\nWhat can I do 
 to ensure that I keep bringing value to my employer or client and to h
 elp ensure continued career success?\r\nWhat will the practice of soft
 ware development look like in ten years time?\r\nHow do I know where t
 o invest time and effort in stewarding my skillset?\r\nIn 2008, Ed Bur
 ns interviewed top programmers from a variety of software disciplines 
 for the book “Secrets of the Rock Star Programmers”. Now in 2018, 
 Ed revisits the cross section of secrets (aka character attributes) ex
 hibited by these rockstars for the current world of programming.\r\nJo
 in this session to learn more about these characteristics that can hel
 p you become a better programmer.\r\nPurpose of the Talk\r\nEd intervi
 ews some of the best programmers of our time and shares their strategi
 es for success.\r\nTarget Audience\r\n\r\nAny developer wanting to imp
 rove their career skills.\r\n\r\nAudience Takeaway\r\nA set of concret
 e, actionable steps you can take right now to become a better develope
 r.\r\n\n\nFor more information visit https://codetown.com/events/orlan
 dojug-secrets-of-the-programming-rock-stars
DTSTART:20180712T220000Z
DTEND:20180713T000000Z
CATEGORIES:meeting
LOCATION:Oracle Intrepid Conference Room
WEBSITE:https://www.amazon.com/Secrets-Rock-Star-Programmers-Riding/dp
 /0071490833
URL:https://www.amazon.com/Secrets-Rock-Star-Programmers-Riding/dp/007
 1490833
CONTACT:3212529322
ORGANIZER;CN="Michael Levin":https://codetown.com/profile/MichaelLevin
ATTACH;FMTTYPE="image/jpeg":http://storage.ning.com/topology/rest/1.0/
 file/get/2006961210?profile=original
ATTENDEE;ROLE=REQ-PARTICIPANT;PARTSTAT=ACCEPTED;RSVP=TRUE;CN="Michael 
 Levin":https://codetown.com/profile/MichaelLevin
END:VEVENT
END:VCALENDAR
