BEGIN:VCALENDAR
PRODID:NingEventWidget-v1
VERSION:2.0
METHOD:PUBLISH
BEGIN:VEVENT
UID:2197786:Event:98364
DTSTAMP:20260423T190443Z
SUMMARY:OrlandoJUG ::: Reactive Spring
DESCRIPTION:Join us for a Reactive Spring talk featuring Miguel Mendez
 .\r\n\r\nMiguel Mendez is a software engineer from Orlando Florida. He
  currently works for FlexEngage as a Lead Developer.\r\n\r\nWith more 
 than 20 years of experience in the business he is passionate about web
  technologies, user experience and distributed systems. \r\n\r\nAs a 
 Domain Driven Design practitioner he believes in the importance of und
 erstanding the core domain in order to build useful software.\r\n\r\nR
 eactive programming has been getting lots of attention lately, Project
 s like Reactive Extensions (Rx) library in the .NET,  RxJS, RXJava, a
 nd lately Project Reactor have brought Reactive programming into the m
 ain scene. Reactive programming is basically programming with asynchro
 nous data streams.\r\n\r\nSpring 5  (first milestone June 2016) has r
 eactive features built into it, including tools for building HTTP serv
 ers and clients. \r\nWe will see a very familiar programming model us
 ing annotations to decorate controller methods to handle HTTP requests
 , for the most part handing off the dispatching of reactive requests a
 nd back pressure concerns to the framework. We will also take a look a
 t a more functional way of building web applications on Spring.\r\n\n\
 nFor more information visit https://codetown.com/events/orlandojug-rea
 ctive-spring
DTSTART:20190725T220000Z
DTEND:20190726T000000Z
CATEGORIES:ojug, meetup
LOCATION:Starter Studio
WEBSITE:http://starterstudio.org
URL:http://starterstudio.org
CONTACT:3212529322
ORGANIZER;CN="Michael Levin":https://codetown.com/profile/MichaelLevin
ATTACH;FMTTYPE="image/jpeg":https://storage.ning.com/topology/rest/1.0
 /file/get/3155438924?profile=original
ATTENDEE;ROLE=REQ-PARTICIPANT;PARTSTAT=ACCEPTED;RSVP=TRUE;CN="Michael 
 Levin":https://codetown.com/profile/MichaelLevin
ATTENDEE;ROLE=REQ-PARTICIPANT;PARTSTAT=ACCEPTED;RSVP=TRUE;CN="BJ Esmai
 lbegui":https://codetown.com/profile/BJEsmailbegui
END:VEVENT
END:VCALENDAR
