BEGIN:VCALENDAR
PRODID:NingEventWidget-v1
VERSION:2.0
METHOD:PUBLISH
BEGIN:VEVENT
UID:2197786:Event:53330
DTSTAMP:20260421T061622Z
SUMMARY:OrlandoJUG October Meetup - Distributed Caching with JCache an
 d Beyond
DESCRIPTION:Hello OrlandoJUG!\nThis month I will be in San Francisco f
 or Java One, Oracle's annual Java conference. Fortunately, Alex Buckle
 s and Gregg Groves will be here to lead the meeting. Thanks, guys!\nOu
 r topic this month is Distributed Caching with JCache and Beyond. JC
 ache is vendor-neutral caching specification for Java. No need for pro
 prietary non-standard caching solutions in Java land anymore. In this 
 talk, Greg Luck will cover how distributed caching works in general, c
 apabilities of JCache API, use cases, best practices and the future of
  JCache.\nViktor Gamov is our presenter.  Viktor joined Hazelcast wit
 h over 5 years of experience in architecting and building enterprise a
 pplications using open source technologies. In his previous roles, he 
 has helped financial companies and startups with various Java and HTML
 5 projects. He holds an MS in Computer Science. He is a co-author of t
 he O’Reilly book «Enterprise Web Development. From Desktop To Mobil
 e». Viktor has presented at various international conferences (http:/
 /lanyrd.com/gamussa) on Java and JavaScript related topics. Find him o
 n Twitter @gamussa.  \nWe usually socialize from 6-7 and the meeting
  begins at around 7. So, don't worry if you can't get to Canvs by 6.\n
 Meanwhile, thanks for your interest and have fun at this month's JUG m
 eeting. Please feel free to spread the word: you can use Codetown's in
 vite feature to invite your friends.\nI'll have a lot to tell you afte
 r JavaOne. Oh, and if you'd like a discount code good for 20% off J1, 
 just let me know.\n\nThis meeting is sponsored by Cambridge Web Design
  - We provide custom software development and professional services. 
 www.cambridgeweb.ie\nAll the best,\nMichael Levin\nChairman, OrlandoJU
 G\nmike@orlandoJUG.com\n321-252-9322\nShould you have any topic sugges
 tions or general questions, please email Michael Levin at mike@cambri
 dgeweb.ie or Alex Buckles at alex@alexbuckles.com. \n\nFor more infor
 mation visit https://codetown.com/events/orlandojug-october-meetup
DTSTART:20151022T220000Z
DTEND:20151023T000000Z
CATEGORIES:meeting
LOCATION:Canvs
WEBSITE:https://www.google.com/maps/place/Canvs/@28.540941,-81.381257,
 15z/data=!4m2!3m1!1s0x0:0x7b502da35897a91
URL:https://www.google.com/maps/place/Canvs/@28.540941,-81.381257,15z/
 data=!4m2!3m1!1s0x0:0x7b502da35897a91
CONTACT:(407) 741-3005
ORGANIZER:Alex Buckles & Greg Groves
ATTACH;FMTTYPE="image/jpeg":http://storage.ning.com/topology/rest/1.0/
 file/get/2006955856?profile=original
ATTENDEE;ROLE=REQ-PARTICIPANT;PARTSTAT=ACCEPTED;RSVP=TRUE;CN="Praveen 
 Seetharaman":https://codetown.com/profile/PraveenSeetharaman
ATTENDEE;ROLE=REQ-PARTICIPANT;PARTSTAT=ACCEPTED;RSVP=TRUE;CN="Alex Buc
 kles":https://codetown.com/profile/AlexBuckles
ATTENDEE;ROLE=REQ-PARTICIPANT;PARTSTAT=TENTATIVE;RSVP=TRUE;CN="David H
 incapie":https://codetown.com/profile/DavidHincapie
END:VEVENT
END:VCALENDAR
