BEGIN:VCALENDAR
PRODID:NingEventWidget-v1
VERSION:2.0
METHOD:PUBLISH
BEGIN:VEVENT
UID:2197786:Event:39330
DTSTAMP:20260422T104016Z
SUMMARY:OrlandoJUG ::: May Meeting
DESCRIPTION:Hi All:\n\nI am going to be out of town this week and won'
 t be able to lead the meeting. I'll be in bonnie Scotland watching the
  Edinburgh Marathon from a safe distance. You all can wish me warm, dr
 y weather. ;-) Of course, you can reach me via email and thru Codetown
  message. \n\nYou are all welcome to meet up at the neighboring \"BJ'
 s\" pub and restaurant and have some tasty beverages and enjoy each ot
 her's company. \n\nI'll see you next month, if not sooner. \n\nAll t
 he best,\n\nMichael Levin\n\n\n\n\n\n\nFor more information visit http
 s://codetown.com/events/orlandojug-may-meeting
DTSTART:20120524T220000Z
DTEND:20120525T010000Z
CATEGORIES:meeting
LOCATION:Potentially the pub \"BJ's\" nearby
WEBSITE:
URL:
CONTACT:Skype ::: mlevin77
ORGANIZER;CN="Michael Levin":https://codetown.com/profile/MichaelLevin
ATTACH;FMTTYPE="image/jpeg":http://storage.ning.com/topology/rest/1.0/
 file/get/2006946382?profile=original
ATTENDEE;ROLE=REQ-PARTICIPANT;PARTSTAT=ACCEPTED;RSVP=TRUE;CN="Vanitha 
 Naidu":https://codetown.com/profile/VanithaNaidu
ATTENDEE;ROLE=REQ-PARTICIPANT;PARTSTAT=ACCEPTED;RSVP=TRUE;CN="Beth Nie
 man":https://codetown.com/profile/BethNieman929
END:VEVENT
END:VCALENDAR
