BEGIN:VCALENDAR
PRODID:NingEventWidget-v1
VERSION:2.0
METHOD:PUBLISH
BEGIN:VEVENT
UID:2197786:Event:112533
DTSTAMP:20260421T050206Z
SUMMARY:OrlandoJUG ::: JPA 2.1 Entity Graphs in Spring Data with Richa
 rd
DESCRIPTION:Join us for a talk featuring Richard Thibault\r\n\r\nRicha
 rd Thibault is a full-stack web and mobile developer with over 25 year
 s of experience in the software industry. He is currently focused on J
 ava and Spring, though he also develops in Objective C, Swift, and Jav
 ascript. He has built apps for various industries over the years, incl
 uding banking, travel, and real estate. In his current postion as Prin
 cipal Software Engineer for National Regulatory Services (NRS), he des
 igns and builds compliance and e-learning applications for the financi
 al services industry. In his spare time, he likes to play guitar and t
 ravel.\r\n\r\nJPA 2.1 Entity Graphs\r\nSpring Data JPA makes querying 
 easy, but the typical use case is to use lazy loading on child records
 , which can result in performance issues, such as the dreaded \"N+1 se
 lects\" problem. JPA 2.1 introduced Entity Graphs, allowing you to exp
 licilty state which entities get loaded at runtime, resulting in highl
 y performant query joins. We’ll take a look at how to implement Enti
 ty Graphs in the context of a Spring Boot application.\r\n\r\nLet me k
 now if you’ll help out by sponsoring pizza. Thanks, Mike Levin\r\n@m
 ikelevin\n\nFor more information visit https://codetown.com/events/orl
 andojug-jpa-2-1-entity-graphs-in-spring-data-with-richard
DTSTART:20200123T230000Z
DTEND:20200124T010000Z
CATEGORIES:meetup
LOCATION:Starter Studio
WEBSITE:http://StarterStudio.org
URL:http://StarterStudio.org
CONTACT:3212529322
ORGANIZER;CN="Michael Levin":https://codetown.com/profile/MichaelLevin
ATTACH;FMTTYPE="image/jpeg":https://storage.ning.com/topology/rest/1.0
 /file/get/3413145035?profile=original
ATTENDEE;ROLE=REQ-PARTICIPANT;PARTSTAT=ACCEPTED;RSVP=TRUE;CN="Jose Sos
 a":https://codetown.com/profile/JoseSosa197
ATTENDEE;ROLE=REQ-PARTICIPANT;PARTSTAT=ACCEPTED;RSVP=TRUE;CN="BJ Esmai
 lbegui":https://codetown.com/profile/BJEsmailbegui
ATTENDEE;ROLE=REQ-PARTICIPANT;PARTSTAT=ACCEPTED;RSVP=TRUE;CN="Michael 
 Levin":https://codetown.com/profile/MichaelLevin
END:VEVENT
END:VCALENDAR
