BEGIN:VCALENDAR
PRODID:NingEventWidget-v1
VERSION:2.0
METHOD:PUBLISH
BEGIN:VEVENT
UID:2197786:Event:39044
DTSTAMP:20260422T091107Z
SUMMARY:OrlandoJUG April
DESCRIPTION:Hello OrlandoJUG folks!\n\nJoin us for an Open Spaces meet
 ing this month, hosted by your JUG Leader, Mike. Open Spaces is a styl
 e of meeting in which everyone gets the chance to contribute. Mike has
  had many meaningful and enjoyable experiences over the years both lea
 ding and participating in Open Spaces meetings.  This will be a pot lu
 ck dinner style meeting with sponsors Cambridge Web Design, www.cambri
 dgeweb.ie and another sponsor TBA. So, please bring a tasty dish and o
 r beverage if you can. Don't worry if you can't bring anything. Just b
 ring some energy to participate and an appetite.  Please RSVP here on 
 this event announcement (you must be a Codetown member to see the RSVP
  option here, otherwise it's invisible!)  And, please help us by sprea
 ding the word about these meetings, and invite some friends. The Codet
 own invite feature us a great way to spread the word. Also, be sure to
  join the OrlandoJUG group here on Codetown to be notified about all t
 he OrlandoJUG activities.  Here is a description of Open Spaces style 
 meeting coordination: http://en.m.wikipedia.org/wiki/Open_Space_Techno
 logy   We will eat potluck goodies and visit from 6-7PM and have the O
 pen Spaces meeting from 7-8 or 9pm.  As always, I hope to see you ther
 e!  All the best,  Mike Levin OrlandoJUG Chairman\n\nPS - Please let m
 e know about any topics or presenters you know and I'll do my best to 
 get 'em going!\n\nStay tuned for updates...and enjoy our fine Spring w
 eather here in the Swamp!\n\nFor more information visit https://codeto
 wn.com/events/orlandojug-april
DTSTART:20120426T220000Z
DTEND:20120427T010000Z
CATEGORIES:jug
LOCATION:DeVry University Room 106
WEBSITE:
URL:
CONTACT:
ORGANIZER;CN="Michael Levin":https://codetown.com/profile/MichaelLevin
ATTACH;FMTTYPE="image/jpeg":http://storage.ning.com/topology/rest/1.0/
 file/get/2006946554?profile=original
ATTENDEE;ROLE=REQ-PARTICIPANT;PARTSTAT=ACCEPTED;RSVP=TRUE;CN="Jack E. 
 Korner":https://codetown.com/profile/JackEKorner
ATTENDEE;ROLE=REQ-PARTICIPANT;PARTSTAT=ACCEPTED;RSVP=TRUE;CN="Greg Gro
 ves":https://codetown.com/profile/GregGroves
ATTENDEE;ROLE=REQ-PARTICIPANT;PARTSTAT=ACCEPTED;RSVP=TRUE;CN="Sultan S
 hakir":https://codetown.com/profile/Sultan
ATTENDEE;ROLE=REQ-PARTICIPANT;PARTSTAT=ACCEPTED;RSVP=TRUE;CN="Michael 
 Levin":https://codetown.com/profile/MichaelLevin
END:VEVENT
END:VCALENDAR
