BEGIN:VCALENDAR
PRODID:NingEventWidget-v1
VERSION:2.0
METHOD:PUBLISH
BEGIN:VEVENT
UID:2197786:Event:41975
DTSTAMP:20260424T235714Z
SUMMARY:OrlandoJUG
DESCRIPTION:Join us this month for a special presentation you're sure 
 to enjoy!\n\nTony McClay, Enterprise Architect from Nielsen (the TV Su
 rvey people) providing solutions for Global Projects, Convergence, an
 d governance. SOA Enterprise Architect specifying and building solutio
 ns using SOA techniques, which include Event Based Architectures and S
 pace Based Architectures. Tibco Active Matrix Administrator, Tibco Sil
 ver Administrator will give a presentation, topic below. He originall
 y started with Nielsen in 1997\nTony sent a Powerpoint presentation th
 at I believe he is going to use as a road map but he is going to try t
 o focus more on the technical side rather than a general presentation 
 about what Nielsen does.\n \nTITLE - Accelerating Innovation at Niels
 en\nTopic - We are the world’s leading provider of global marketing 
 information, consumer insights, business media products, and services.
  Nielsen provides its clients with the most complete understanding o
 f consumers and markets worldwide. And, we use Java and Open Source to
  do it!\n \n\n-\n           \nGreg Groves, Codetown member
  and accomplished software developer, and longtime OrlandoJUG member, 
 will lead this fun gathering - an opportunity to look under the covers
  and see how the most famous (and, as you'll see, tech savvy) TV surve
 y company in the world uses information technology to sift through rea
 ms of data.\n\nPlease RSVP so we'll know how much food to order.\n\nFo
 r more information visit https://codetown.com/events/orlandojug-7
DTSTART:20121025T220000Z
DTEND:20121026T010000Z
CATEGORIES:meeting
LOCATION:DeVry U Room 106
WEBSITE:
URL:
CONTACT:Skype ::: mlevin77 - Rolls to cell after 10 rings
ORGANIZER;CN="Michael Levin":https://codetown.com/profile/MichaelLevin
ATTACH;FMTTYPE="image/jpeg":http://storage.ning.com/topology/rest/1.0/
 file/get/2006948066?profile=original
ATTENDEE;ROLE=REQ-PARTICIPANT;PARTSTAT=ACCEPTED;RSVP=TRUE;CN="Victor P
 antoja Jr":https://codetown.com/profile/VictorPantojaJr
ATTENDEE;ROLE=REQ-PARTICIPANT;PARTSTAT=ACCEPTED;RSVP=TRUE;CN="Joe Rado
 msky":https://codetown.com/profile/JoeRadomsky
ATTENDEE;ROLE=REQ-PARTICIPANT;PARTSTAT=ACCEPTED;RSVP=TRUE;CN="Jack E. 
 Korner":https://codetown.com/profile/JackEKorner
ATTENDEE;ROLE=REQ-PARTICIPANT;PARTSTAT=ACCEPTED;RSVP=TRUE;CN="Greg Gro
 ves":https://codetown.com/profile/GregGroves
ATTENDEE;ROLE=REQ-PARTICIPANT;PARTSTAT=TENTATIVE;RSVP=TRUE;CN="Tina Or
 ooji":https://codetown.com/profile/torooji
END:VEVENT
END:VCALENDAR
