BEGIN:VCALENDAR
PRODID:NingEventWidget-v1
VERSION:2.0
METHOD:PUBLISH
BEGIN:VEVENT
UID:2197786:Event:42027
DTSTAMP:20260424T201217Z
SUMMARY:OrlandoJUG
DESCRIPTION:Join us for a social meeting. This month, we'll meet up an
 d just enjoy eachother's company.\n\nTry to show up at Buco's about 6-
 6:30PM as usual and I'll order the spaghetti and salad, lasagna and eg
 gplant parmigiana or whatever you request in your comments below to be
  ready about 6:15-6:30. \n\n\nYou can thank Nielsen for the generosi
 ty.\n\n\nWe'll meet for dinner at Buco di Beppo's in Maitland and the
 n if we feel like it, brews across the street at the Enzian's Eden Bar
 .\n\nPlease RSVP so I'll know to keep an eye out for you!\n\nThis meet
 ing is sponsored by Nielsen, who are looking for Java developers for t
 heir Tampa office. Jason Cance will be with us to talk about these ope
 nings.  Here's a link to one of the many developer roles Nielsen has 
 open right now.\n\n\nFor more information visit https://codetown.com/e
 vents/orlandojug-6
DTSTART:20120927T220000Z
DTEND:20120928T010000Z
CATEGORIES:meeting
LOCATION:Buco di Beppos, then Eden Bar at the Enzian
WEBSITE:http://www.orlandojug.com
URL:http://www.orlandojug.com
CONTACT:Skype ::: mlevin77 - 321-252-WEB2
ORGANIZER;CN="Michael Levin":https://codetown.com/profile/MichaelLevin
ATTACH;FMTTYPE="image/jpeg":http://storage.ning.com/topology/rest/1.0/
 file/get/2006947998?profile=original
ATTENDEE;ROLE=REQ-PARTICIPANT;PARTSTAT=ACCEPTED;RSVP=TRUE;CN="Tom Pasc
 o":https://codetown.com/profile/Tom
ATTENDEE;ROLE=REQ-PARTICIPANT;PARTSTAT=ACCEPTED;RSVP=TRUE;CN="Michael 
 Levin":https://codetown.com/profile/MichaelLevin
ATTENDEE;ROLE=REQ-PARTICIPANT;PARTSTAT=ACCEPTED;RSVP=TRUE;CN="Jack E. 
 Korner":https://codetown.com/profile/JackEKorner
ATTENDEE;ROLE=REQ-PARTICIPANT;PARTSTAT=TENTATIVE;RSVP=TRUE;CN="Mike Bi
 vins":https://codetown.com/profile/MikeBivins
END:VEVENT
END:VCALENDAR
