BEGIN:VCALENDAR
PRODID:NingEventWidget-v1
VERSION:2.0
METHOD:PUBLISH
BEGIN:VEVENT
UID:2197786:Event:51691
DTSTAMP:20260421T225329Z
SUMMARY:OrlandoJUG - Ken Krueger on Spring Boot
DESCRIPTION:This month, we welcome Ken Krueger for a talk on Spring Bo
 ot.\n\nKen was here last year and that's the picture of our group that
  night.\nMeeting Overview:\nThis session will introduce Spring Boot, d
 iscuss how it simplifies dependency management, demonstrate how to cre
 ate web and REST style applications, show how easy it is to incorporat
 e Spring Data's automatic repository implementations, and show how Spr
 ing Data REST makes JPA-backed REST applications a snap.\nSpeaker Bio:
 \n Ken has been in IT for 25 years, spanning the mainframe, client se
 rver, web, and cloud eras.  Ken has spent much of the last few years 
 training organizations on the use of Spring.\n\n\nLooks like we are go
 ing to have our meeting at Canvs! I did a walk through and took some p
 hotos. I wrote it up here: http://www.codetown.us/group/orlandojug/fo
 rum/topics/canvs-in-our-future\nPlease tell your friends and colleague
 s so we have a good turnout. And, please update your Codetown profiles
 ! Photos, bio info, location is nice to know and don't forget about yo
 ur blog. And, be sure to actually join the OJUG Town group here on Cod
 etown so you'll be easy to spot and reach. You can use the invite feat
 ure, too! \n\nAs always, I hope to see you there and I hope to see ma
 ny new faces.\n\nAll the best,\n\nMichael Levin\nChairman, Orlando JUG
 \n\nFor more information visit https://codetown.com/events/orlandojug-
 16
DTSTART:20150528T220000Z
DTEND:20150529T010000Z
CATEGORIES:meeting
LOCATION:Canvs
WEBSITE:http://canvs.org/
URL:http://canvs.org/
CONTACT:321-252-9322
ORGANIZER;CN="Michael Levin":https://codetown.com/profile/MichaelLevin
ATTACH;FMTTYPE="image/jpeg":http://storage.ning.com/topology/rest/1.0/
 file/get/2006952557?profile=original
ATTENDEE;ROLE=REQ-PARTICIPANT;PARTSTAT=ACCEPTED;RSVP=TRUE;CN="Pavel Gi
 lo":https://codetown.com/profile/PavelGilo
ATTENDEE;ROLE=REQ-PARTICIPANT;PARTSTAT=ACCEPTED;RSVP=TRUE;CN="Mike Biv
 ins":https://codetown.com/profile/MikeBivins
ATTENDEE;ROLE=REQ-PARTICIPANT;PARTSTAT=ACCEPTED;RSVP=TRUE;CN="Bill Bya
 rs":https://codetown.com/profile/BillByars
ATTENDEE;ROLE=REQ-PARTICIPANT;PARTSTAT=ACCEPTED;RSVP=TRUE;CN="Kiran Ks
 hatriya":https://codetown.com/profile/KiranKshatriya
ATTENDEE;ROLE=REQ-PARTICIPANT;PARTSTAT=ACCEPTED;RSVP=TRUE;CN="Adam Dav
 is":https://codetown.com/profile/AdamDavis
ATTENDEE;ROLE=REQ-PARTICIPANT;PARTSTAT=ACCEPTED;RSVP=TRUE;CN="Lance Ca
 sh":https://codetown.com/profile/LanceCash
ATTENDEE;ROLE=REQ-PARTICIPANT;PARTSTAT=ACCEPTED;RSVP=TRUE;CN="Michael 
 Levin":https://codetown.com/profile/MichaelLevin
END:VEVENT
END:VCALENDAR
