BEGIN:VCALENDAR
PRODID:NingEventWidget-v1
VERSION:2.0
METHOD:PUBLISH
BEGIN:VEVENT
UID:2197786:Event:51249
DTSTAMP:20260422T012434Z
SUMMARY:OrlandoJUG
DESCRIPTION:We're going to have a great time and I hope you can make i
 t.\n\nThink burger...their burger is the best I have ever had: \nEDEN
  BURGER\n100% Wagyu beef burger with lettuce, tomato, Swiss cheese, an
 d peppery mayo\n\nThat's a big statement, I know, but I mean it. It be
 tter be, for $14. At any rate, there's a lot going on in our software 
 world and I look forward to seeing many of you at the OrlandoJUG 3/26 
 from 6-8 at the beautiful Eden Bar by the Enzian Theater www.enzian.o
 rg\n\nAll the best,\n\nMichael Levin\nOrlandoJUG Chairman.\n\nFor more
  information visit https://codetown.com/events/orlandojug-15
DTSTART:20150326T220000Z
DTEND:20150327T000000Z
CATEGORIES:jug, meeting
LOCATION:Eden Bar
WEBSITE:http://www.orlandojug.com
URL:http://www.orlandojug.com
CONTACT:321-252-9322
ORGANIZER;CN="Michael Levin":https://codetown.com/profile/MichaelLevin
ATTACH;FMTTYPE="image/jpeg":http://storage.ning.com/topology/rest/1.0/
 file/get/2006951741?profile=original
ATTENDEE;ROLE=REQ-PARTICIPANT;PARTSTAT=ACCEPTED;RSVP=TRUE;CN="Greg Gro
 ves":https://codetown.com/profile/GregGroves
ATTENDEE;ROLE=REQ-PARTICIPANT;PARTSTAT=ACCEPTED;RSVP=TRUE;CN="Michael 
 Levin":https://codetown.com/profile/MichaelLevin
END:VEVENT
END:VCALENDAR
