BEGIN:VCALENDAR
PRODID:NingEventWidget-v1
VERSION:2.0
METHOD:PUBLISH
BEGIN:VEVENT
UID:2197786:Event:51184
DTSTAMP:20260421T231032Z
SUMMARY:OrlandoJUG February
DESCRIPTION:Hello, OrlandoJUG!\nWe had such a great time at the Eden B
 ar last month, I think we may do it again. Unless we get a special gue
 st speaker ;-) I'll put it this way: expect a talk sometime in the nea
 r future on simulation. When that happens, we'll wind up in a meeting 
 room with an overhead projector. But for the moment, I think we'll hav
 e a casual meeting at the lovely Eden Bar with ample beer and food, at
 mosphere galore.\n\n\nBen King is a local developer who has been work
 ing with Swift and may drop by to share what he's learned with us. \n
 \nIf you haven't actually joined the OrlandoJUG group here at Codetow
 n, please do. That way, you'll get email when I post these meeting ann
 ouncements and also you'll see when others post discussions there. ht
 tp://www.codetown.us/group/orlandojug\n\nPersonally, I've been spendin
 g a lot of time learning Android programming, so I'll have things to s
 ay about that. \n\nAnd, that's not all! There's so much going on in t
 he software world, including beacons - have you heard about beacons? T
 hey are smart, stick on devices with built in sensors and acceleromete
 rs. Check out Estimote for an example. So cool...#nearables\n\nSo, st
 ay tuned and like I said, please join the http://www.codetown.us/grou
 p/orlandojug group so you'll be in the know about these meetings. \n\
 nAs always, I hope to see you 2/26/15...\n\nMichael Levin\nOJUG Chair\
 n\n\n\n\nFor more information visit https://codetown.com/events/orland
 ojug-14
DTSTART:20150226T230000Z
DTEND:20150227T010000Z
CATEGORIES:meeting
LOCATION:Eden Bar
WEBSITE:http://www.enzian.org/food/eden_bar
URL:http://www.enzian.org/food/eden_bar
CONTACT:321-252-9322
ORGANIZER;CN="Michael Levin":https://codetown.com/profile/MichaelLevin
ATTACH;FMTTYPE="image/jpeg":http://storage.ning.com/topology/rest/1.0/
 file/get/2006951694?profile=original
ATTENDEE;ROLE=REQ-PARTICIPANT;PARTSTAT=ACCEPTED;RSVP=TRUE;CN="Jack E. 
 Korner":https://codetown.com/profile/JackEKorner
ATTENDEE;ROLE=REQ-PARTICIPANT;PARTSTAT=ACCEPTED;RSVP=TRUE;CN="Greg Gro
 ves":https://codetown.com/profile/GregGroves
ATTENDEE;ROLE=REQ-PARTICIPANT;PARTSTAT=ACCEPTED;RSVP=TRUE;CN="Adam Dav
 is":https://codetown.com/profile/AdamDavis
ATTENDEE;ROLE=REQ-PARTICIPANT;PARTSTAT=ACCEPTED;RSVP=TRUE;CN="Richard 
 Thibault":https://codetown.com/profile/RichardThibault
ATTENDEE;ROLE=REQ-PARTICIPANT;PARTSTAT=ACCEPTED;RSVP=TRUE;CN="Michael 
 Levin":https://codetown.com/profile/MichaelLevin
ATTENDEE;ROLE=REQ-PARTICIPANT;PARTSTAT=TENTATIVE;RSVP=TRUE;CN="David T
 . Harris":https://codetown.com/profile/DavidTHarris
ATTENDEE;ROLE=REQ-PARTICIPANT;PARTSTAT=TENTATIVE;RSVP=TRUE;CN=Miek:htt
 ps://codetown.com/profile/Miek
END:VEVENT
END:VCALENDAR
