BEGIN:VCALENDAR
PRODID:NingEventWidget-v1
VERSION:2.0
METHOD:PUBLISH
BEGIN:VEVENT
UID:2197786:Event:42100
DTSTAMP:20260424T212321Z
SUMMARY:openSUSE Summit - Orlando
DESCRIPTION:\nThe openSUSE Summit brings together a wide variety of Op
 en Source contributors to collaborate on one of the major Linux distri
 bution projects. In three exciting days of workshops and social happen
 ings we bring alive the openSUSE slogan \"Have a lot of fun\".\nThe Su
 mmit takes place September 21-23 followingSUSEcon , our main sponsors
 ' yearly conference. Registrations finalized before September 15 inc
 lude free admission to the final day of SUSECon.\n\nFor more informati
 on visit https://codetown.com/events/opensuse-summit-orlando
DTSTART:20120921T040000Z
DTEND:20120924T035900Z
CATEGORIES:conference
LOCATION:Caribe Royale
WEBSITE:http://summit.opensuse.org/
URL:http://summit.opensuse.org/
CONTACT:
ORGANIZER:OpenSUSE dot org
ATTACH;FMTTYPE="image/jpeg":http://storage.ning.com/topology/rest/1.0/
 file/get/2006947829?profile=original
ATTENDEE;ROLE=REQ-PARTICIPANT;PARTSTAT=ACCEPTED;RSVP=TRUE;CN="Michael 
 Levin":https://codetown.com/profile/MichaelLevin
END:VEVENT
END:VCALENDAR
