BEGIN:VCALENDAR
PRODID:NingEventWidget-v1
VERSION:2.0
METHOD:PUBLISH
BEGIN:VEVENT
UID:2197786:Event:56222
DTSTAMP:20260424T031907Z
SUMMARY:Open Source Bridge
DESCRIPTION:Open Source Bridge is a volunteer-run conference that conn
 ects people across open source technologies, projects and experiences.
  Register now to attend the conference during June 20-23, 2017 at The 
 Eliot Center in downtown Portland, Oregon.\n\nFor more information vis
 it https://codetown.com/events/open-source-bridge-3
DTSTART:20170620T040000Z
DTEND:20170624T035900Z
CATEGORIES:conference
LOCATION:The Eliot Center
WEBSITE:http://opensourcebridge.org
URL:http://opensourcebridge.org
CONTACT:Info@pensourcebridge.org
ORGANIZER:Stumptown Syndicate
ATTACH;FMTTYPE="image/jpeg":http://storage.ning.com/topology/rest/1.0/
 file/get/2006958516?profile=original
ATTENDEE;ROLE=REQ-PARTICIPANT;PARTSTAT=TENTATIVE;RSVP=TRUE;CN="Michael
  Levin":https://codetown.com/profile/MichaelLevin
END:VEVENT
END:VCALENDAR
