BEGIN:VCALENDAR
PRODID:NingEventWidget-v1
VERSION:2.0
METHOD:PUBLISH
BEGIN:VEVENT
UID:2197786:Event:53822
DTSTAMP:20260424T205517Z
SUMMARY:Open Source Bridge
DESCRIPTION:Open Source Bridge is an annual conference in Portland, O
 R focused on building open source community and citizenship through fo
 ur days of technical talks, hacking sessions, and collaboration opport
 unities. Participants include developers, hardware hackers, community 
 organizers, and people involved in the business of open source.\n\nFor
  more information visit https://codetown.com/events/open-source-bridge
 -2
DTSTART:20160623T040000Z
DTEND:20160627T035900Z
CATEGORIES:conference
LOCATION:The Eliot Center
WEBSITE:http://opensourcebridge.org/
URL:http://opensourcebridge.org/
CONTACT:http://opensourcebridge.org/contact-us/
ORGANIZER:Stumptown Syndicate  PO Box 28398 Portland, OR 97228
ATTACH;FMTTYPE="image/jpeg":http://storage.ning.com/topology/rest/1.0/
 file/get/2006957074?profile=original
ATTENDEE;ROLE=REQ-PARTICIPANT;PARTSTAT=ACCEPTED;RSVP=TRUE;CN="Michael 
 Levin":https://codetown.com/profile/MichaelLevin
END:VEVENT
END:VCALENDAR
