BEGIN:VCALENDAR
PRODID:NingEventWidget-v1
VERSION:2.0
METHOD:PUBLISH
BEGIN:VEVENT
UID:2197786:Event:51166
DTSTAMP:20260421T225302Z
SUMMARY:Open Source Bridge
DESCRIPTION:\n\nOpen Source Bridge is a software conference in Portlan
 d that equips you for the whole year with news and information to help
  you be the best developer you can be...and collaborate. Here's some i
 nfo, and we will raffle off a free ticket to the conference at GatorJU
 G and OrlandoJUG!\n\nOpen Source Bridge: http://opensourcebridge.org\
 nOpen Source Bridge is a conference for those working with open source
  technologies. It will take place June 23–26, 2015, in Portland, Ore
 gon, with five tracks connecting people across projects, languages and
  experience to explore how we do our work and why we participate in op
 en source. The conference structure is designed to provide developers 
 with an opportunity to learn from people they might not connect with a
 t other events. Attendees will learn and interact at three days of tra
 ditional conference presentations, a day of free-form unconference ses
 sions, and our all-day Hacker Lounge.\nWe’re also seeking presentati
 on proposals through March 14th. Read our Call for Proposals here:http
 ://opensourcebridge.org/call-for-proposals\nAs a user group member, yo
 u can use the coupon code “osbugluv” to register for only $215 whe
 n you select Regular Registration. Learn more and register today at h
 ttp://opensourcebridge.org/attend/\nThe conference is run entirely by 
 volunteers who believe in the need for an open source event that focus
 es on the culture of being an open source citizen, regardless of where
  in the stack you choose to code. All proceeds from conference registr
 ation and sponsorship go directly to the costs of the conference.\nOur
  event shares in-depth knowledge about using, creating, and contributi
 ng to open source as citizens of a greater community. You’ll find re
 levant information whether you write web apps for the cloud, tinker wi
 th operating system internals, create hardware, run a startup, or blog
  about technology.\nThe city of Portland is a great place to visit. It
  has a thriving tech community, a love of all things open source, and 
 offers many attractions for visiting geeks, including Powell’s Techn
 ical Books, dozens of local brewpubs, and large greenspaces like Fores
 t Park — all accessible by mass transit.\nVisit http://opensourcebr
 idge.org/ to learn more about the conference, see our session proposa
 ls, and register to attend.\nThanks!\n\nFor more information visit htt
 ps://codetown.com/events/open-source-bridge-1
DTSTART:20150623T040000Z
DTEND:20150627T035900Z
CATEGORIES:conference
LOCATION:Portland
WEBSITE:http://opensourcebridge.org
URL:http://opensourcebridge.org
CONTACT:
ORGANIZER:Open Source Bridge
ATTACH;FMTTYPE="image/jpeg":http://storage.ning.com/topology/rest/1.0/
 file/get/2006951702?profile=original
ATTENDEE;ROLE=REQ-PARTICIPANT;PARTSTAT=ACCEPTED;RSVP=TRUE;CN="Michael 
 Levin":https://codetown.com/profile/MichaelLevin
END:VEVENT
END:VCALENDAR
