BEGIN:VCALENDAR
PRODID:NingEventWidget-v1
VERSION:2.0
METHOD:PUBLISH
BEGIN:VEVENT
UID:2197786:Event:60519
DTSTAMP:20260421T054945Z
SUMMARY:OJUG ::: Social Beer and News
DESCRIPTION:Hey there! Drop by tonight and get yourself a Florida brew
  while we chat about news in the Java & Open Source world under some o
 f the shadiest old oaks in Winter Park.\r\n\r\nAlso, please join the O
 rlandoJUG group here at Codetown. Direct link www.orlandojug.org\r\n\r
 \nDirect link: http://www.orlandojug.org\n\nFor more information visit
  https://codetown.com/events/ojug-social-beer-and-news
DTSTART:20180628T220000Z
DTEND:20180628T234500Z
CATEGORIES:meetup
LOCATION:The Eden Bar
WEBSITE:Http://www.enzian.org
URL:Http://www.enzian.org
CONTACT:321-252-9322
ORGANIZER;CN="Michael Levin":https://codetown.com/profile/MichaelLevin
ATTACH;FMTTYPE="image/jpeg":http://storage.ning.com/topology/rest/1.0/
 file/get/2006961150?profile=original
ATTENDEE;ROLE=REQ-PARTICIPANT;PARTSTAT=ACCEPTED;RSVP=TRUE;CN="Michael 
 Levin":https://codetown.com/profile/MichaelLevin
END:VEVENT
END:VCALENDAR
