BEGIN:VCALENDAR
PRODID:NingEventWidget-v1
VERSION:2.0
METHOD:PUBLISH
BEGIN:VEVENT
UID:2197786:Event:27187
DTSTAMP:20260422T030342Z
SUMMARY:OJUG JavaFX 2.0
DESCRIPTION:This month Jim Clarke, co-author of JavaFX - Developing Ri
 ch Internet Applications, will bring us up to date on the latest JavaF
 X 2.0 features. JavaFX provides a powerful Java-based UI platform capa
 ble of handling large-scale data driven business applications. With th
 is new update, Java-FX 2.0, developers can create JavaFX applications 
 completely in Java. This allows developers to preserve existing invest
 ments by reusing Java libraries in the JavaFX applications.\n \nIt's 
 a huge update that embraces the core Java platform and provides a rich
  set of graphics and media API to simplify development of visual appli
 cations. Jim will bring us up to date on all that JavaFX 2.0 has to of
 fer including, but not limited to:\n\nWebView Control\nfor embedding l
 ive web pages directly in you java application\n\n\nSwing\nJavaFX Inte
 gration\n\nand\n\nGroovyFX\na new open source project he is working on
 , that provides a Groovy binding for JavaFX\n\n\n\nSo come on out to D
 eVry and learn about the latest update to JavaFX.\n \n \nDIRECTIONS 
 TOORLANDO CAMPUS OF DeVRY UNIVERSITY4000 Millenia BoulevardOrlando, FL
    32839\nFROM TAMPA OR DISNEY GOING EAST ON I-4\n \nTake I-4 east 
 to Conroy Road – Exit 78.  Turn right off the exit onto Conroy Road
 .  At the next light turn left onto Millenia Blvd.  The campus will 
 be on your right.  There is visitor’s parking at the front of the b
 uilding.  Use the center front entrance.  \nFROM DOWNTOWN ORLANDO A
 ND NORTH\n \nTake I-4 west to Conroy Road – Exit 78.  Turn left of
 f the exit onto Conroy Road.  (You will cross back over I-4.)  Take 
 Conroy Road to Millenia Blvd. and turn left.  The campus will be on y
 our right.  There is visitor’s parking at the front of the building
 .  Use the center front entrance.\nFROM ORLANDO INTERNATIONAL AIRPORT
 \n \nTake the Beeline Expressway (528 toll) west to I-4.  Take I-4 e
 ast to Conroy Road – Exit 78.  Turn right off the exit onto Conroy 
 Road.  Take Conroy Road to Millenia Blvd. and turn left.  The campus
  will be on your right.  There is visitor’s parking at the front of
  the building.  Use the center front entrance. \nFROM KISSIMMEE/ST. 
 CLOUD\nTake the Florida Turnpike (toll) to I-4 east.  Take I-4 east t
 o Conroy Road – Exit 78.  Turn right off the exit onto Conroy Road.
   Take Conroy Road to Millenia Blvd. and turn left.  The campus will
  be on your right.  There is visitor’s parking at the front of the 
 building.  Use the center front entrance.\n\nFor more information vis
 it https://codetown.com/events/ojug-javafx-2-0
DTSTART:20110922T220000Z
DTEND:20110923T010000Z
CATEGORIES:presentation
LOCATION:DeVry Room 106
WEBSITE:
URL:
CONTACT:
ORGANIZER:
ATTACH;FMTTYPE="image/jpeg":http://storage.ning.com/topology/rest/1.0/
 file/get/2006945346?profile=original
ATTENDEE;ROLE=REQ-PARTICIPANT;PARTSTAT=ACCEPTED;RSVP=TRUE;CN="Sultan S
 hakir":https://codetown.com/profile/Sultan
ATTENDEE;ROLE=REQ-PARTICIPANT;PARTSTAT=ACCEPTED;RSVP=TRUE;CN="Jack E. 
 Korner":https://codetown.com/profile/JackEKorner
ATTENDEE;ROLE=REQ-PARTICIPANT;PARTSTAT=ACCEPTED;RSVP=TRUE;CN="Mike Biv
 ins":https://codetown.com/profile/MikeBivins
ATTENDEE;ROLE=REQ-PARTICIPANT;PARTSTAT=ACCEPTED;RSVP=TRUE;CN="Kurt Wea
 ver":https://codetown.com/profile/KurtWeaver
ATTENDEE;ROLE=REQ-PARTICIPANT;PARTSTAT=ACCEPTED;RSVP=TRUE;CN="Megan Ol
 iveri":https://codetown.com/profile/MeganOliveri
ATTENDEE;ROLE=REQ-PARTICIPANT;PARTSTAT=ACCEPTED;RSVP=TRUE;CN="Matt Cam
 pbell":https://codetown.com/profile/MattCampbell
ATTENDEE;ROLE=REQ-PARTICIPANT;PARTSTAT=ACCEPTED;RSVP=TRUE;CN="Fred Sel
 ls":https://codetown.com/profile/FredSells
ATTENDEE;ROLE=REQ-PARTICIPANT;PARTSTAT=ACCEPTED;RSVP=TRUE;CN="Michael 
 Levin":https://codetown.com/profile/MichaelLevin
ATTENDEE;ROLE=REQ-PARTICIPANT;PARTSTAT=ACCEPTED;RSVP=TRUE;CN="Christop
 her Vergare":https://codetown.com/profile/ChristopherVergare
ATTENDEE;ROLE=REQ-PARTICIPANT;PARTSTAT=ACCEPTED;RSVP=TRUE;CN="Umesh Kr
 ishnaswamy":https://codetown.com/profile/UmeshKrishnaswamy
ATTENDEE;ROLE=REQ-PARTICIPANT;PARTSTAT=ACCEPTED;RSVP=TRUE;CN="David Fa
 letto":https://codetown.com/profile/DavidFaletto
ATTENDEE;ROLE=REQ-PARTICIPANT;PARTSTAT=TENTATIVE;RSVP=TRUE;CN="Richard
  Dean":https://codetown.com/profile/richddean
ATTENDEE;ROLE=REQ-PARTICIPANT;PARTSTAT=TENTATIVE;RSVP=TRUE;CN="Mike Gu
 idry":https://codetown.com/profile/MikeGuidry
ATTENDEE;ROLE=REQ-PARTICIPANT;PARTSTAT=TENTATIVE;RSVP=TRUE;CN="Rajil S
 ajila":https://codetown.com/profile/RajilSajila
ATTENDEE;ROLE=REQ-PARTICIPANT;PARTSTAT=TENTATIVE;RSVP=TRUE;CN="Anjuli 
 Vivian Atwal":https://codetown.com/profile/AnjuliVivianAtwal
END:VEVENT
END:VCALENDAR
