BEGIN:VCALENDAR
PRODID:NingEventWidget-v1
VERSION:2.0
METHOD:PUBLISH
BEGIN:VEVENT
UID:2197786:Event:57392
DTSTAMP:20260422T074852Z
SUMMARY:OJUG - Groovy Programming with Adam Davis
DESCRIPTION:\r\n\r\nHello Orlando Juggies!\r\n\r\nAdam Davis will giv
 e a presentation on Groovy at the groovy new Canvs Co-working space in
  Winter Park Thursday 8/24. \r\n\r\nIf you'd like to be a pizza spons
 or and get attention on our 1500 member plus mailing list, www.Codeto
 wn.com and have the gratitude of lots of hungry coders, contact Mike
  at 321-252-9322. @mikelevin \r\n\r\nHere's the abstract:\r\n\r\n\r\
 n\r\nStart building powerful apps that take advantage of the dynamic s
 cripting capabilities of the Groovy language. This talk covers Groovy 
 fundamentals, such as using Groovy tools, working with the GDK, and so
 me popular Groovy idioms. We’ll also cover more advanced aspects of 
 Groovy, such as design patterns, writing DSLs in Groovy, and functiona
 l programming concepts in Groovy. If there’s still time, we’ll tal
 k a little while about other great Groovy tools like Spock, Ratpack, G
 rails, and Gradle.\r\n\r\n\r\n\r\n\r\n\r\nAdam is a software developer
  and author. Check out his books at at Packt Publishing, \r\n\r\n\r\
 n\r\nDo you want to sponsor a meeting or give a presentation? Contact 
 Mike Levin at 321-252-9322 or at Codetown, mike@codetown.com @mikelevi
 n \n\nFor more information visit https://codetown.com/events/ojug-gro
 ovy-programming-with-adam-davis
DTSTART:20170824T220000Z
DTEND:20170825T010000Z
CATEGORIES:orlando, jug, meeting
LOCATION:Canvs Winter Park
WEBSITE:http://www.canvs.org
URL:http://www.canvs.org
CONTACT:321-252-9322
ORGANIZER;CN="Michael Levin":https://codetown.com/profile/MichaelLevin
ATTACH;FMTTYPE="image/jpeg":http://storage.ning.com/topology/rest/1.0/
 file/get/2006959935?profile=original
ATTENDEE;ROLE=REQ-PARTICIPANT;PARTSTAT=ACCEPTED;RSVP=TRUE;CN="Adam Dav
 is":https://codetown.com/profile/AdamDavis
ATTENDEE;ROLE=REQ-PARTICIPANT;PARTSTAT=ACCEPTED;RSVP=TRUE;CN="Michael 
 Levin":https://codetown.com/profile/MichaelLevin
ATTENDEE;ROLE=REQ-PARTICIPANT;PARTSTAT=ACCEPTED;RSVP=TRUE;CN="Pavel Gi
 lo":https://codetown.com/profile/PavelGilo
ATTENDEE;ROLE=REQ-PARTICIPANT;PARTSTAT=ACCEPTED;RSVP=TRUE;CN="Jack E. 
 Korner":https://codetown.com/profile/JackEKorner
END:VEVENT
END:VCALENDAR
