BEGIN:VCALENDAR
PRODID:NingEventWidget-v1
VERSION:2.0
METHOD:PUBLISH
BEGIN:VEVENT
UID:2197786:Event:4317
DTSTAMP:20260421T064953Z
SUMMARY:JavaPosse Roundup
DESCRIPTION:The JavaPosse Roundup is a small gathering of Java codesli
 ngers in a mountain town called Crested Butte, way out West in Colorad
 o. Your hosts are The Java Posse and Bruce Eckel. Join them and explor
 e the latest developments in Java and software development in general.
 \n\nThe JavaPosse have a podcast you'll enjoy - look for them on iTune
 s or at the JavaPosse website at http://www.javaposse.com/\n\nFor more
  information visit https://codetown.com/events/javaposse-roundup
DTSTART:20090302T050000Z
DTEND:20090307T045900Z
CATEGORIES:conference
LOCATION:Mindview HQ
WEBSITE:http://www.mindviewinc.com/Conferences/JavaPosseRoundup/
URL:http://www.mindviewinc.com/Conferences/JavaPosseRoundup/
CONTACT:
ORGANIZER:Mindview, Inc
ATTACH;FMTTYPE="image/jpeg":http://storage.ning.com/topology/rest/1.0/
 file/get/2006940042?profile=original
ATTENDEE;ROLE=REQ-PARTICIPANT;PARTSTAT=ACCEPTED;RSVP=TRUE;CN="Michael 
 Levin":https://codetown.com/profile/MichaelLevin
END:VEVENT
END:VCALENDAR
