BEGIN:VCALENDAR
PRODID:NingEventWidget-v1
VERSION:2.0
METHOD:PUBLISH
BEGIN:VEVENT
UID:2197786:Event:40339
DTSTAMP:20260424T185344Z
SUMMARY:JavaOne 2012
DESCRIPTION:\nJavaOne Kicks Off with Sunday Keynotes\nWe’re making s
 ome changes at JavaOne to give you more hours than ever to take advant
 age of the hundreds of technical sessions, hands-on labs, and BOFs tha
 t will be offered this year.\nTo free up time for session slots on Mon
 day and Tuesday, the Java Strategy, Partner, and Technical keynotes wi
 ll be held on the Sunday of conference week, beginning at 4:00 p.m. An
 d in order to accommodate the ever-growing number of attendees, the lo
 cation for the keynotes is new this year as well: the historic Masonic
  Auditorium on Nob Hill. After the keynotes, attendees can go to the o
 fficial JavaOne Open House at the Taylor Street Café @ the Zone.\nAs 
 in years past, Sunday will feature User Group meetings (at Moscone Wes
 t) and Java University courses (Hilton San Francisco Union Square). On
  Thursday, the Java Community keynote will return—always a great way
  to start wrapping up the week.\nRegister before July 13, 2012 and sav
 e US$400. Click here for information on registration packages, includi
 ng the low-cost Discover pass alternative.\n\nFor more information vis
 it https://codetown.com/events/javaone-2012
DTSTART:20120930T040000Z
DTEND:20121005T035900Z
CATEGORIES:conference
LOCATION:San Francisco
WEBSITE:http://www.oracle.com/javaone/index.html
URL:http://www.oracle.com/javaone/index.html
CONTACT:
ORGANIZER:Oracle
ATTACH;FMTTYPE="image/jpeg":http://storage.ning.com/topology/rest/1.0/
 file/get/2006946859?profile=original
ATTENDEE;ROLE=REQ-PARTICIPANT;PARTSTAT=ACCEPTED;RSVP=TRUE;CN="Michael 
 Levin":https://codetown.com/profile/MichaelLevin
END:VEVENT
END:VCALENDAR
