BEGIN:VCALENDAR
PRODID:NingEventWidget-v1
VERSION:2.0
METHOD:PUBLISH
BEGIN:VEVENT
UID:2197786:Event:56330
DTSTAMP:20260423T223729Z
SUMMARY:IoT Tech Day
DESCRIPTION:\n\nWHAT IS THE IOT TECH DAY 2017?\n19 April 2017\nCELEBRA
 TE THE LOVE FOR SMART TECHNOLOGY\nAT THE BIGGEST INTERNET OF THINGS CO
 NFERENCE OF EUROPE\nIoT Tech Day 2017 is the biggest Internet of Thing
 s conference of Europe. Celebrate the love for Smart Technology and me
 et like-minded IoT Techies. At the IoT Tech Day 2017 you can broaden y
 our knowledge at our hands-on labs, hackathons, technical sessions an
 d workshops, which are all focused on the technology of the next era: 
 the Internet of Things.\nIntroducing and exploring the latest innovati
 ons within the world of the Internet of Things, the IoT Tech Day 2017 
 is not to be missed. Taking place in Jaarbeurs Utrecht on April 19th,
  the IoT Tech Day 2017 will welcome 1,300 IoT enthusiasts, including d
 evelopers [Java, Android, Open Source], makers, the most innovative br
 ands in the Internet of Things world and many more.\nTopics that will
  be discussed: Connected Living & Office, Connected health & wearables
 , Virtual & Augmented Reality, Data & Security, Machine Learning & Ar
 tficial Intelligence, IoT Hardware & Connectivity and IoT Enterprise s
 olutions.\nAttendees are expected from across the entire IoT industry 
 with representatives from sectors including: government, energy, educa
 tion, transportation, healthcare, manufacturing, M2M and many more.\nA
 ll attendees, speakers, sponsors and volunteers at our conference are 
 required to agree with the following code of conduct. Organisers will 
 enforce this code throughout the event. We are expecting cooperation f
 rom all participants to help ensuring a safe environment for everybody
 .\nThis event is organized by the Dutch Java User Group NLJUG.\n\n\nFo
 r more information visit https://codetown.com/events/iot-tech-day
DTSTART:20170419T040000Z
DTEND:20170420T035900Z
CATEGORIES:conference
LOCATION:Jaarbeurs
WEBSITE:http://iottechday.nl/
URL:http://iottechday.nl/
CONTACT:http://iottechday.nl/contact
ORGANIZER:NLJug ::: http://iottechday.nl/team
ATTACH;FMTTYPE="image/jpeg":http://storage.ning.com/topology/rest/1.0/
 file/get/2006959054?profile=original
ATTENDEE;ROLE=REQ-PARTICIPANT;PARTSTAT=TENTATIVE;RSVP=TRUE;CN="Michael
  Levin":https://codetown.com/profile/MichaelLevin
END:VEVENT
END:VCALENDAR
