BEGIN:VCALENDAR
PRODID:NingEventWidget-v1
VERSION:2.0
METHOD:PUBLISH
BEGIN:VEVENT
UID:2197786:Event:42381
DTSTAMP:20260425T184648Z
SUMMARY:HTML5 and CSS3 with Robert Boedigheimer (Orlando)
DESCRIPTION:\n\nThe latest version of HTML is not completely standardi
 zed yet, but there are parts that are available in the latest version 
 of browsers. There are many new elements, including those that provide
  more semantic meaning to common elements (like header, footer, etc). 
 A new can be used for drawing, while the and provide new multimedia ca
 pabilities. New input types are utilized by devices to provide context
  sensitive keyboards and improved usability. The new application cachi
 ng and web storage provide the capability for disconnected web sites f
 or smartphones and tablets. Learn about support for HTML 5 in major br
 owsers, and see how Modernizr can provide feature detection and smooth
  fallbacks via various polyfills.\nWhat will CSS 3 provide for advance
 d styling of web pages? Review what current browser support is for CSS
  3, and learn how to provide support in older browsers. Learn about ve
 ndor prefixes, why they are used, and a strategy for utilize them whil
 e preparing for the future standardized versions. See new features suc
 h as rounded corners, opacity, rgba, web fonts, transitions, transform
 s, box shadows, multiple background images, and much more. Discover ho
 w media queries have been expanded to provide a foundation for respons
 ive web design.\nRobert Boedigheimer works for Schwans Shared Services
 , LLC providing business solutions with web technologies and leads Rob
 ert Boedigheimer Consulting, LLC. Robert has been designing and develo
 ping web sites for the past 17 years including the early days of ASP a
 nd ASP.NET. He is a columnist for aspalliance.com, a Pluralsight Autho
 r, an ASP.NET MVP, an author, and a 3rd degree black belt in Tae Kwon 
 Do. Robert has spoken at industry conferences including VSLive, Heartl
 and Developers Conference, DevLink, DevTeach, Tulsa Tech Fest, DevWeek
 , DevReach, SDC, TechEd, DevConnections, AJAXWorld, and numerous natio
 nal and international events.\n\n\nFor more information visit https://
 codetown.com/events/html5-and-css3-with-robert-boedigheimer-orlando
DTSTART:20121213T233000Z
DTEND:20121214T020000Z
CATEGORIES:meetup
LOCATION:Orlando City Hall
WEBSITE:http://maps.google.com/maps?q=400+S.+Or%2C+Orlando%2C+FL
URL:http://maps.google.com/maps?q=400+S.+Or%2C+Orlando%2C+FL
CONTACT:http://www.meetup.com/ONETUG/events/90906252/
ORGANIZER:Orlando Dot Net User Group
ATTACH;FMTTYPE="image/jpeg":http://storage.ning.com/topology/rest/1.0/
 file/get/2006947893?profile=original
ATTENDEE;ROLE=REQ-PARTICIPANT;PARTSTAT=ACCEPTED;RSVP=TRUE;CN="Michael 
 Levin":https://codetown.com/profile/MichaelLevin
END:VEVENT
END:VCALENDAR
