BEGIN:VCALENDAR
PRODID:NingEventWidget-v1
VERSION:2.0
METHOD:PUBLISH
BEGIN:VEVENT
UID:2197786:Event:39673
DTSTAMP:20260422T120129Z
SUMMARY:Google Tech User Group Meeting 5/22, 7:00pm @ CIED
DESCRIPTION:The Gainesville Google Technology User Group will be meeti
 ng May 22,at 7:00 pm at the Center for Innovation and Economic Develop
 ment (CIED) in the Imagination Room.  Obulpathi N Challa, PhD candid
 ate, will discuss the theory behind the Google File System and Map Re
 duce with examples in python.Google File System:https://docs.google.c
 om/file/d/0B3s1lBVi0FFkZTExYmU2NWItOWMzZS00OTQyLTgxODYtYjRkMWRmNzAwMTh
 m/edit?pli=1#Map Reduce: https://docs.google.com/file/d/0B3s1lBVi0FFk
 WlNfc1VFWWFHTkE/edit#Code and slides will be available after the meeti
 ng.More information can be found here:Gainesville GTUG & Meeting Info:
  http://gainesville.gtugs.orgCIED: http://dept.sfcollege.edu/cied/me
 eting.shtml , map: http://goo.gl/GuwkK\n\nFor more information visit
  https://codetown.com/events/google-tech-user-group-meeting-5-22-7-00p
 m-cied
DTSTART:20120522T230000Z
DTEND:20120523T010000Z
CATEGORIES:meeting
LOCATION:Center for Innovation and Economic Development
WEBSITE:http://goo.gl/GuwkK
URL:http://goo.gl/GuwkK
CONTACT:
ORGANIZER;CN="Dan Trevino":https://codetown.com/profile/DanTrevino
ATTACH;FMTTYPE="image/jpeg":
ATTENDEE;ROLE=REQ-PARTICIPANT;PARTSTAT=ACCEPTED;RSVP=TRUE;CN="Dan Trev
 ino":https://codetown.com/profile/DanTrevino
END:VEVENT
END:VCALENDAR
