BEGIN:VCALENDAR
PRODID:NingEventWidget-v1
VERSION:2.0
METHOD:PUBLISH
BEGIN:VEVENT
UID:2197786:Event:57417
DTSTAMP:20260425T125420Z
SUMMARY:Girls Who Code (Winter Park, FL)
DESCRIPTION:Girls in grades 6 - 12 are invited to this free and fun co
 urse introducing topics like artificial intelligence, graphics, game d
 esign, cryptography and mobile development. You’ll learn basic progr
 amming concepts using Python, HTML, CSS and JavaScript. Registration 
 is required by September 7, 2017; limited to 15 participants. Particip
 ants should bring their own laptop; a limited number of laptops are av
 ailable to those without them. Snacks will be provided.\r\nWPPL's Girl
 s Who Code is a locally-based affiliate of the national non-profit org
 anizationGirls Who Code, which seeks to inspire, educate and equip gir
 ls with the computing skills to pursue 21st century opportunities.\n\n
 For more information visit https://codetown.com/events/girls-who-code-
 winter-park-fl
DTSTART:20170907T220000Z
DTEND:20170908T000000Z
CATEGORIES:training
LOCATION:Winter Park Public Library
WEBSITE:http://www.wppl.org/events/girls-who-code-club-3
URL:http://www.wppl.org/events/girls-who-code-club-3
CONTACT:407-623-3300 ext. 4 lblue@wppl.org
ORGANIZER:Lisa Blue
ATTACH;FMTTYPE="image/jpeg":http://storage.ning.com/topology/rest/1.0/
 file/get/2006959560?profile=original
ATTENDEE;ROLE=REQ-PARTICIPANT;PARTSTAT=ACCEPTED;RSVP=TRUE;CN="Michael 
 Levin":https://codetown.com/profile/MichaelLevin
END:VEVENT
END:VCALENDAR
