BEGIN:VCALENDAR
PRODID:NingEventWidget-v1
VERSION:2.0
METHOD:PUBLISH
BEGIN:VEVENT
UID:2197786:Event:13926
DTSTAMP:20260425T100752Z
SUMMARY:GatorLUG - Linux Users Group
DESCRIPTION:Greetings All,  You are invited to join us at the next Gat
 orLUG meeting in beautiful (but way too cold ) Gainesville, Florida.  
 We'll end a long year with a relaxed social meeting at The Laboratory.
  Come meet someone new and enjoy the great food at this venue. Introdu
 ce yourself to someone you don't know and get all the tech talk you ca
 n eat!  Meetings are always free and open to the general public.  More
  information about the current meeting with a map link:  http://www.ga
 torlug.org/node/277  More information about GatorLUG: http://www.gator
 lug.org/node/10  See you there,  Clinton Collins, President GatorLUG, 
 Gainesville, Florida http://www.gatorlug.org\n\nFor more information v
 isit https://codetown.com/events/gatorlug-linux-users-group
DTSTART:20101215T230000Z
DTEND:20101216T020000Z
CATEGORIES:user, group, meeting
LOCATION:The Lab
WEBSITE:http://www.gatorlug.org
URL:http://www.gatorlug.org
CONTACT:http://www.codetown.us/profile/ClintonCollins
ORGANIZER:Clint Collins
ATTACH;FMTTYPE="image/jpeg":http://storage.ning.com/topology/rest/1.0/
 file/get/2006944787?profile=original
ATTENDEE;ROLE=REQ-PARTICIPANT;PARTSTAT=ACCEPTED;RSVP=TRUE;CN="Michael 
 Levin":https://codetown.com/profile/MichaelLevin
END:VEVENT
END:VCALENDAR
