BEGIN:VCALENDAR
PRODID:NingEventWidget-v1
VERSION:2.0
METHOD:PUBLISH
BEGIN:VEVENT
UID:2197786:Event:8128
DTSTAMP:20260424T100709Z
SUMMARY:GatorJUG - Watching the logs roll by
DESCRIPTION:25 percent of developers say that their JEE projects take 
 over two minutes to deploy, every time they want to see their changes.
  Since on average we deploy five times an hour, we are watching the lo
 gs roll by, or switching to email and losing focus, for more than an h
 our every day. Ouch. That's painful! In this talk, Jevgeni Kabanov wil
 l highlight three key techniques that you can start using immediately 
 to drop the time from hitting Ctrl+S to refresh your browser down to l
 ess than one second. We will start by discussing exploded development 
 and some shortcuts you can take to eliminate the build scripts from yo
 ur everyday life. Then we will review some ways to bypass or speed up 
 redeployment. We will take a look at JEE redeployment, OSGi modules, s
 pecial framework support that exists in Grails, Seam, Tapestry5 and RI
 FE, and JVM HotSwap. We will cover what you can do for free, and intro
 duce a class reloading JVM plug-in called \"JavaRebel\", that solves t
 he problem for peanuts. After this talk, you will leave with a clear i
 dea of at least three ways to reduce your turnaround, and measurably s
 ave your team at least an hour per day.\n\nJevgeni Kabanov is the foun
 der and lead of ZeroTurnaround (www.zeroturnaround.com), a development
  tools company that focuses on productivity. Before that he worked as 
 the R&D director of Webmedia, Ltd, the largest custom software develop
 ment company in the Baltics. As part of the effort to reduce developme
 nt time tunraround he wrote the prototype of the ZeroTurnaround flagsh
 ip product, JavaRebel, a class reloading JVM plug-in.\n\nJevgeni has b
 een speaking on international conferences for several years, including
  JavaPolis/Devoxx, JavaZone, JAOO and so on. He also has an active res
 earch interest, publishing several papers on topics ranging from categ
 ory theoretical notions to typesafe Java DSLs. Besides the commercial 
 products made for ZeroTurnaround, Jevgeni is a co-founder of two open-
 source projects -- Aranea and Squill. Aranea (www.araneaframework.org)
  is a web development and integration platform based on strong object-
 oriented principles. Squill (squill.dev.java.net) is a typesafe intern
 al DSL for constructing and executing SQL queries. Jevgeni's personal 
 blog can be found at dow.ngra.de.\n\nFor more information visit https:
 //codetown.com/events/gatorjug-watching-the-logs
DTSTART:20090701T220000Z
DTEND:20090702T010000Z
CATEGORIES:meeting
LOCATION:Santa Fe College Room S 326/327
WEBSITE:http://www.gatorjug.org
URL:http://www.gatorjug.org
CONTACT:@mikelevin or mike (at) codetown (dot) us
ORGANIZER;CN="Michael Levin":https://codetown.com/profile/MichaelLevin
ATTACH;FMTTYPE="image/jpeg":http://storage.ning.com/topology/rest/1.0/
 file/get/2006941254?profile=original
ATTENDEE;ROLE=REQ-PARTICIPANT;PARTSTAT=ACCEPTED;RSVP=TRUE;CN="Kevin Ne
 elands":https://codetown.com/profile/KevinNeelands
ATTENDEE;ROLE=REQ-PARTICIPANT;PARTSTAT=ACCEPTED;RSVP=TRUE;CN="Michael 
 Levin":https://codetown.com/profile/MichaelLevin
ATTENDEE;ROLE=REQ-PARTICIPANT;PARTSTAT=TENTATIVE;RSVP=TRUE;CN="Christa
 n Grant":https://codetown.com/profile/ChristanGrant
ATTENDEE;ROLE=REQ-PARTICIPANT;PARTSTAT=TENTATIVE;RSVP=TRUE;CN="Llewell
 yn Keir":https://codetown.com/profile/LlewellynKeir
END:VEVENT
END:VCALENDAR
