BEGIN:VCALENDAR
PRODID:NingEventWidget-v1
VERSION:2.0
METHOD:PUBLISH
BEGIN:VEVENT
UID:2197786:Event:41547
DTSTAMP:20260425T000118Z
SUMMARY:GatorJUG - See You in October!
DESCRIPTION:Unfortunately, due to a sudden change in plans we won't ha
 ve GatorJUG tonight. We look forward to seeing you in October. Apologi
 es for any inconvenience. \n\nFor more information visit https://code
 town.com/events/gatorjug-see-you-in-october
DTSTART:20120912T220000Z
DTEND:20120912T230000Z
CATEGORIES:workshop
LOCATION:SFC
WEBSITE:
URL:
CONTACT:
ORGANIZER;CN="Michael Levin":https://codetown.com/profile/MichaelLevin
ATTACH;FMTTYPE="image/jpeg":
END:VEVENT
END:VCALENDAR
