BEGIN:VCALENDAR
PRODID:NingEventWidget-v1
VERSION:2.0
METHOD:PUBLISH
BEGIN:VEVENT
UID:2197786:Event:13779
DTSTAMP:20260425T113255Z
SUMMARY:GatorJUG - on vacation until 2011
DESCRIPTION:Hi Juggies!\n\nThis is GatorJUG. I'm taking a break down h
 ere in the Swamp until January. There are lots of things I want to do:
  get some sun, eat some frogs, and do some quality basking. So, I hope
  you all have a happy holiday season. Please spread the word about Gat
 orJUG so next year will be a chompin' good year for all of us. And, st
 ay tuned to Codetown for updates on the next meeting.\n\nMeanwhile, do
 n't forget you have GatorJUG Town in which to exchange info.\n\nAll th
 e best!\n\nFor more information visit https://codetown.com/events/gato
 rjug-on-vacation-until
DTSTART:20101104T220000Z
DTEND:20101104T230000Z
CATEGORIES:meeting
LOCATION:Civic Media Center
WEBSITE:http://www.codetown.us/group/gatorjugtown
URL:http://www.codetown.us/group/gatorjugtown
CONTACT:Skype ::: mlevin77
ORGANIZER:Michael Levin and Dan Lackey
ATTACH;FMTTYPE="image/jpeg":http://storage.ning.com/topology/rest/1.0/
 file/get/2006943941?profile=original
ATTENDEE;ROLE=REQ-PARTICIPANT;PARTSTAT=ACCEPTED;RSVP=TRUE;CN="Michael 
 Levin":https://codetown.com/profile/MichaelLevin
END:VEVENT
END:VCALENDAR
