BEGIN:VCALENDAR
PRODID:NingEventWidget-v1
VERSION:2.0
METHOD:PUBLISH
BEGIN:VEVENT
UID:2197786:Event:51065
DTSTAMP:20260422T004520Z
SUMMARY:GatorJUG March
DESCRIPTION:We had such a great time at First Magnitude I think we'll 
 make a habit of it! When the sun sets, they have a firepit and ample s
 eating. We can even toss a frisbee - here's one before First Magnitude
  love:\n\nAnd, after:\n\n\nThanks to local entrepreneur Steven Kanner 
 of www.kannerkarts.com for donating the fine Frisbee. \n\nHere's some
  of what we talked about at the February meeting:\n\"Boy, we had a fan
 tastic time yesterday at First Magnitude. Conversations were very dive
 rse and included how C++ version 11 includes lambdas, wearable devices
 , Swift, WWDC and potential of developing apps for the new Apple watch
  may elicit an invite to the upcoming conference, Android, and more. T
 he folks at First Magnitude have done such an incredible job. There wa
 s a little fire out back for warmth as it got chilly when the sun set.
  I think we're going to make a habit of this...\" \n\n\nStay tuned, b
 ut this is it! We're having a blast. Hope you can join us. Bring a fri
 end! \n\nFor more information visit https://codetown.com/events/gator
 jug-march
DTSTART:20150311T220000Z
DTEND:20150312T000000Z
CATEGORIES:meeting
LOCATION:First Magnitude
WEBSITE:http://www.codetown.us/group/gatorjugtown
URL:http://www.codetown.us/group/gatorjugtown
CONTACT:321-252-9322
ORGANIZER;CN="Michael Levin":https://codetown.com/profile/MichaelLevin
ATTACH;FMTTYPE="image/jpeg":http://storage.ning.com/topology/rest/1.0/
 file/get/2006951968?profile=original
ATTENDEE;ROLE=REQ-PARTICIPANT;PARTSTAT=ACCEPTED;RSVP=TRUE;CN="Michael 
 Levin":https://codetown.com/profile/MichaelLevin
ATTENDEE;ROLE=REQ-PARTICIPANT;PARTSTAT=TENTATIVE;RSVP=TRUE;CN="cj jens
 sen":https://codetown.com/profile/cjjenssen
END:VEVENT
END:VCALENDAR
