BEGIN:VCALENDAR
PRODID:NingEventWidget-v1
VERSION:2.0
METHOD:PUBLISH
BEGIN:VEVENT
UID:2197786:Event:53893
DTSTAMP:20260419T124046Z
SUMMARY:GatorJug - Jython
DESCRIPTION:Stay tuned as plans firm up...Jim Baker, Jython guy is hop
 ing to join us in the Fall. What's Jython? It's Python on the Java Vir
 tual Machine (JVM). Jim's the Jython guru. He's given great talks in t
 he past here at GatorJug. Many of you know him. Jim is a practicing so
 ftware developer, currently with Rackspace and formerly with Canonical
 . He's also a prof at Univ of Colorado. You can reach him right here a
 t Codetown.  We normally meet on the 2nd Wed, but the date may adjust 
 so Jim can also give a talk for the OrlandoJug.\n\nFor more informatio
 n visit https://codetown.com/events/gatorjug-jython
DTSTART:20161012T220000Z
DTEND:20161013T000000Z
CATEGORIES:meeting
LOCATION:TBA
WEBSITE:http://www.gatorjug.org
URL:http://www.gatorjug.org
CONTACT:321-252-9322
ORGANIZER;CN="Michael Levin":https://codetown.com/profile/MichaelLevin
ATTACH;FMTTYPE="image/jpeg":http://storage.ning.com/topology/rest/1.0/
 file/get/2006956954?profile=original
ATTENDEE;ROLE=REQ-PARTICIPANT;PARTSTAT=ACCEPTED;RSVP=TRUE;CN="Michael 
 Levin":https://codetown.com/profile/MichaelLevin
END:VEVENT
END:VCALENDAR
