BEGIN:VCALENDAR
PRODID:NingEventWidget-v1
VERSION:2.0
METHOD:PUBLISH
BEGIN:VEVENT
UID:2197786:Event:52032
DTSTAMP:20260424T093523Z
SUMMARY:GatorJUG July
DESCRIPTION:It looks like we're going to have another social meeting a
 t First Magnitude. I just got back from www.solidcon.com, so I'll have
  a lot to report. I know several of you are working on new projects. I
 t will be good to hear about them. Also, there's a lot of buzz about J
 ava 9, so I'll bring some info to share. \n\nPlease post your Java qu
 estions here on Codetown. And, don't hesitate to discuss other softwar
 e topics in the forum or the other interest groups.\n\nAs always, I ho
 pe to see you at the July GatorJUG!\n\nMike Levin\n@mikelevin\nmike@ga
 torjug.org\n\n\nFor more information visit https://codetown.com/events
 /gatorjug-july
DTSTART:20150708T220000Z
DTEND:20150709T000000Z
CATEGORIES:meeting
LOCATION:First Magnitude Brewing
WEBSITE:http://www.fmbrewing.com
URL:http://www.fmbrewing.com
CONTACT:321-252-9322
ORGANIZER;CN="Michael Levin":https://codetown.com/profile/MichaelLevin
ATTACH;FMTTYPE="image/jpeg":http://storage.ning.com/topology/rest/1.0/
 file/get/2006953668?profile=original
ATTENDEE;ROLE=REQ-PARTICIPANT;PARTSTAT=ACCEPTED;RSVP=TRUE;CN="Michael 
 Levin":https://codetown.com/profile/MichaelLevin
END:VEVENT
END:VCALENDAR
