BEGIN:VCALENDAR
PRODID:NingEventWidget-v1
VERSION:2.0
METHOD:PUBLISH
BEGIN:VEVENT
UID:2197786:Event:51103
DTSTAMP:20260422T004631Z
SUMMARY:GatorJUG February
DESCRIPTION:Hello, GatorJUG!\n\nAre we having fun yet? Have you checke
 d out www.meetup.com for Gainesville tech events? Well, you should! Th
 ere's Python, Hackers, Front End, Ruby, and so much more. \n\nLet's f
 ind a great brew pub for our next meeting. I'm thinking something like
  First Magnitude Brewery (http://fmbrewing.com), where GatorLUG had 
 their last meeting: \"The Brew Spot has shut down, so join us at First
  Magnitude for a social meeting while we figure out a better meeting l
 ocation, talk about Linux, and drink some good beer & cider!\nCome and
  visit The Source, First Magnitude’s on premise tasting room, and c
 heck out the 15bbl brewing system. They are a place for you to enjoy a
  pint and spend time with friends -all ages welcome and we are kid-fri
 endly. They have an indoor tasting room, warehouse/brewery space, and 
 a large outdoor, oak-shaded beer garden.\" \n\nThat sounds fun to me
 . First Magnitude may be a little far for some of you, but if I get en
 ough thumbs up votes, we'll do it there.\n\nLet me know - mike@codetow
 n.us - or, just text me. \n\nMeanwhile... \n\nIf you haven't actuall
 y joined the GatorJUG group here at Codetown, please do. That way, y
 ou'll get email when I post these meeting announcements and also you'l
 l see when others post discussions there.http://www.codetown.us/group/
 gatorjugtown\n\nPersonally, I've been spending a lot of time learning 
 Android programming, so I'll have things to say about that. \n\nAnd, 
 that's not all! There's so much going on in the software world, includ
 ing beacons - have you heard about beacons? They are smart, stick on d
 evices with built in sensors and accelerometers. Check out Estimote 
 for an example. So cool...#nearables\n\nSo, stay tuned and like I said
 , please join the http://www.codetown.us/group/gatorjugtown group so
  you'll be in the know about these meetings. \n\nAs always, I hope to
  see you 2/11/15...\n\nMichael Levin\nGatorJUG Chair\n\nFor more infor
 mation visit https://codetown.com/events/gatorjug-february
DTSTART:20150211T230000Z
DTEND:20150212T010000Z
CATEGORIES:meeting
LOCATION:First Magnitude Brewery (http://fmbrewing.com)
WEBSITE:http://www.gatorjug.org
URL:http://www.gatorjug.org
CONTACT:321-252-9322
ORGANIZER;CN="Michael Levin":https://codetown.com/profile/MichaelLevin
ATTACH;FMTTYPE="image/jpeg":http://storage.ning.com/topology/rest/1.0/
 file/get/2006951584?profile=original
ATTENDEE;ROLE=REQ-PARTICIPANT;PARTSTAT=ACCEPTED;RSVP=TRUE;CN="Kevin Ne
 elands":https://codetown.com/profile/KevinNeelands
ATTENDEE;ROLE=REQ-PARTICIPANT;PARTSTAT=ACCEPTED;RSVP=TRUE;CN="Michael 
 Levin":https://codetown.com/profile/MichaelLevin
END:VEVENT
END:VCALENDAR
