BEGIN:VCALENDAR
PRODID:NingEventWidget-v1
VERSION:2.0
METHOD:PUBLISH
BEGIN:VEVENT
UID:2197786:Event:39135
DTSTAMP:20260422T091054Z
SUMMARY:GatorJUG - See ya next month!
DESCRIPTION:Hi GatorJUG folks!\n\nWe got busy this month and didn't ha
 ve a presenter scheduled, so tonight's meeting is a no-go. So, get set
  for next month. We'll have a better agenda and it's going to be doubl
 y beautiful here in Gainesville. See you then. \n\n\nMeanwhile, keep 
 an eye out for great presenters and topics and let either me or Dan La
 ckey, co-chairman know. \n\n\n\nFor more information visit https://co
 detown.com/events/gatorjug-april
DTSTART:20120411T220000Z
DTEND:20120412T010000Z
CATEGORIES:jug
LOCATION:TBA
WEBSITE:
URL:
CONTACT:
ORGANIZER;CN="Michael Levin":https://codetown.com/profile/MichaelLevin
ATTACH;FMTTYPE="image/jpeg":http://storage.ning.com/topology/rest/1.0/
 file/get/2006946300?profile=original
ATTENDEE;ROLE=REQ-PARTICIPANT;PARTSTAT=ACCEPTED;RSVP=TRUE;CN="Michael 
 Levin":https://codetown.com/profile/MichaelLevin
END:VEVENT
END:VCALENDAR
