BEGIN:VCALENDAR
PRODID:NingEventWidget-v1
VERSION:2.0
METHOD:PUBLISH
BEGIN:VEVENT
UID:2197786:Event:51393
DTSTAMP:20260421T235524Z
SUMMARY:GatorJUG April - Cancelled
DESCRIPTION:See you next month - be sure to mark your calendars and in
 vite your friends and colleagues to the next GatorJUG featuring Tim Lo
 rd of Slashdot!\n\nNext month, May 13, Tim Lord of Slashdot will tell 
 us all about the underpinnings this fascinating site!\n\n\nImportant: 
 RSVP here: \nhttp://www.codetown.us/events/gatorjug-slashdot-s-tim-lo
 rd\n\nFor more information visit https://codetown.com/events/gatorjug-
 april-1
DTSTART:20150408T220000Z
DTEND:20150409T000000Z
CATEGORIES:jug
LOCATION:Santa Fe College Rm S326
WEBSITE:http://www.gatorjug.org
URL:http://www.gatorjug.org
CONTACT:321-252-9322
ORGANIZER;CN="Michael Levin":https://codetown.com/profile/MichaelLevin
ATTACH;FMTTYPE="image/jpeg":http://storage.ning.com/topology/rest/1.0/
 file/get/2006951512?profile=original
ATTENDEE;ROLE=REQ-PARTICIPANT;PARTSTAT=ACCEPTED;RSVP=TRUE;CN="Kevin Ne
 elands":https://codetown.com/profile/KevinNeelands
ATTENDEE;ROLE=REQ-PARTICIPANT;PARTSTAT=ACCEPTED;RSVP=TRUE;CN="Michael 
 Levin":https://codetown.com/profile/MichaelLevin
END:VEVENT
END:VCALENDAR
