BEGIN:VCALENDAR
PRODID:NingEventWidget-v1
VERSION:2.0
METHOD:PUBLISH
BEGIN:VEVENT
UID:2197786:Event:42023
DTSTAMP:20260424T150928Z
SUMMARY:GatorJUG ::: Android Design Patterns with Kevin Neelands
DESCRIPTION:We have a great presentation you all will love coming up W
 ed, October 10. Join us for some camaraderie with new and old friends.
  We'll have tasty food and beverages.\n\n\n\nKevin Neelands has been
  programming since the Apple 2E was hot stuff and recently has done i
 Phone and Android programming.  Kevin will talk a bit about Android d
 evelopment with Java, some common problems and features and/or pattern
 s that help solve them, and wrap up by showing how design patterns hel
 p Android development.  The lecture will be appropriate for the Java 
 novice, but experienced programmers might learn a thing or two.\nPleas
 e let your friends know about GatorJUG. We've been around for a long t
 ime. These presentations are too good to miss.\n\nThis meeting is spon
 sored by Cambridge Web Design ::: Working Software Developers.\n\nFor
  more information visit https://codetown.com/events/gatorjug-4
DTSTART:20121010T220000Z
DTEND:20121011T000000Z
CATEGORIES:meeting
LOCATION:Santa Fe College -- Building S-318
WEBSITE:http://www.sfcollege.edu/centers/
URL:http://www.sfcollege.edu/centers/
CONTACT:321-252-WEB2 (9322)
ORGANIZER;CN="Michael Levin":https://codetown.com/profile/MichaelLevin
ATTACH;FMTTYPE="image/jpeg":http://storage.ning.com/topology/rest/1.0/
 file/get/1975459337?profile=original
ATTENDEE;ROLE=REQ-PARTICIPANT;PARTSTAT=ACCEPTED;RSVP=TRUE;CN="Michael 
 Levin":https://codetown.com/profile/MichaelLevin
ATTENDEE;ROLE=REQ-PARTICIPANT;PARTSTAT=ACCEPTED;RSVP=TRUE;CN="Kevin Ne
 elands":https://codetown.com/profile/KevinNeelands
ATTENDEE;ROLE=REQ-PARTICIPANT;PARTSTAT=ACCEPTED;RSVP=TRUE;CN="Curtis M
 cMillen":https://codetown.com/profile/CurtisMcMillen
ATTENDEE;ROLE=REQ-PARTICIPANT;PARTSTAT=ACCEPTED;RSVP=TRUE;CN="Alex Whi
 tler":https://codetown.com/profile/AlexWhitler
ATTENDEE;ROLE=REQ-PARTICIPANT;PARTSTAT=ACCEPTED;RSVP=TRUE;CN="Dan Lack
 ey":https://codetown.com/profile/DanLackey37
ATTENDEE;ROLE=REQ-PARTICIPANT;PARTSTAT=TENTATIVE;RSVP=TRUE;CN=Rajil:ht
 tps://codetown.com/profile/rajilsaj
ATTENDEE;ROLE=REQ-PARTICIPANT;PARTSTAT=TENTATIVE;RSVP=TRUE;CN="Nikhil 
 Goenka":https://codetown.com/profile/NikhilGoenka
END:VEVENT
END:VCALENDAR
