BEGIN:VCALENDAR
PRODID:NingEventWidget-v1
VERSION:2.0
METHOD:PUBLISH
BEGIN:VEVENT
UID:2197786:Event:14016
DTSTAMP:20260425T084206Z
SUMMARY:GatorJUG
DESCRIPTION:Stay tuned for details!\n\nFor more information visit http
 s://codetown.com/events/gatorjug-3
DTSTART:20110112T230000Z
DTEND:20110113T020000Z
CATEGORIES:meeting
LOCATION:Civic Media Center
WEBSITE:http://www.civicmediacenter.org/
URL:http://www.civicmediacenter.org/
CONTACT:Skype ::: mlevin77
ORGANIZER;CN="Michael Levin":https://codetown.com/profile/MichaelLevin
ATTACH;FMTTYPE="image/jpeg":http://storage.ning.com/topology/rest/1.0/
 file/get/2006944478?profile=original
ATTENDEE;ROLE=REQ-PARTICIPANT;PARTSTAT=ACCEPTED;RSVP=TRUE;CN="cj jenss
 en":https://codetown.com/profile/cjjenssen
ATTENDEE;ROLE=REQ-PARTICIPANT;PARTSTAT=ACCEPTED;RSVP=TRUE;CN="Michael 
 Levin":https://codetown.com/profile/MichaelLevin
END:VEVENT
END:VCALENDAR
