BEGIN:VCALENDAR
PRODID:NingEventWidget-v1
VERSION:2.0
METHOD:PUBLISH
BEGIN:VEVENT
UID:2197786:Event:39583
DTSTAMP:20260422T103703Z
SUMMARY:Gainesville Java User Group - Android Programming
DESCRIPTION:Our very own Kevin Neelands will introduce us to Java/Andr
 oid programing. The meeting will be held at Santafe College, third fl
 oor of S-building next to the bookstore.  We'll have the exact room n
 umber soon.\nKevin Neelands has done mobile app development for the iP
 hone, iPad and Android devices.  He will talk about some of the initi
 al things he learned about Android while porting iOS apps to Android, 
 specifically how Android differs from iOS.  This talk will de-emphasi
 ze technical aspects and will be appropriate for people who are famili
 ar with Java but just starting Android programing.\nHere are links to 
 the GatorJUG group here on Codetown and our legacy GatorJUG website (s
 ome useful info) http://www.codetown.us/group/gatorjugtown and http:
 //www.gatorjug.org/\n\nThis meeting is sponsored by Cambridge Web Desi
 gn ::: Working Software Developers!\n\nFor more information visit htt
 ps://codetown.com/events/gainesville-java-user-group
DTSTART:20120509T220000Z
DTEND:20120510T010000Z
CATEGORIES:meeting
LOCATION:Santafe College third floor of S-building, Room S326
WEBSITE:http://maps.google.com/maps?client=safari&rls=en&oe=UTF-8&um=1
 &ie=UTF-8&q=santa+fe+college&fb=1&gl=us&hq=santa+fe+college&cid=0,0,16
 219097175377225693&ei=H62WT5q-NJKQ8wT_loGLDg&sa=X&oi=local_result&ct=i
 mage&ved=0CA8Q_BI
URL:http://maps.google.com/maps?client=safari&rls=en&oe=UTF-8&um=1&ie=
 UTF-8&q=santa+fe+college&fb=1&gl=us&hq=santa+fe+college&cid=0,0,162190
 97175377225693&ei=H62WT5q-NJKQ8wT_loGLDg&sa=X&oi=local_result&ct=image
 &ved=0CA8Q_BI
CONTACT:http://www.codetown.us/profile/DanLackey37
ORGANIZER;CN="Dan Lackey":https://codetown.com/profile/DanLackey37
ATTACH;FMTTYPE="image/jpeg":http://storage.ning.com/topology/rest/1.0/
 file/get/2006946474?profile=original
ATTENDEE;ROLE=REQ-PARTICIPANT;PARTSTAT=ACCEPTED;RSVP=TRUE;CN=Dardan:ht
 tps://codetown.com/profile/Dardan
ATTENDEE;ROLE=REQ-PARTICIPANT;PARTSTAT=ACCEPTED;RSVP=TRUE;CN="Patrick 
 Garner":https://codetown.com/profile/PatrickGarner
ATTENDEE;ROLE=REQ-PARTICIPANT;PARTSTAT=ACCEPTED;RSVP=TRUE;CN="Nick Don
 ald":https://codetown.com/profile/NickDonald
ATTENDEE;ROLE=REQ-PARTICIPANT;PARTSTAT=ACCEPTED;RSVP=TRUE;CN="Kevin Ne
 elands":https://codetown.com/profile/KevinNeelands
ATTENDEE;ROLE=REQ-PARTICIPANT;PARTSTAT=ACCEPTED;RSVP=TRUE;CN="Michael 
 Levin":https://codetown.com/profile/MichaelLevin
ATTENDEE;ROLE=REQ-PARTICIPANT;PARTSTAT=ACCEPTED;RSVP=TRUE;CN="Dan Lack
 ey":https://codetown.com/profile/DanLackey37
END:VEVENT
END:VCALENDAR
