BEGIN:VCALENDAR
PRODID:NingEventWidget-v1
VERSION:2.0
METHOD:PUBLISH
BEGIN:VEVENT
UID:2197786:Event:14417
DTSTAMP:20260420T203008Z
SUMMARY:Emerging Technologies for the Enterprise
DESCRIPTION:This 2-day, 5-track event features close to 50 speakers an
 d topics ranging from HTML5 to MongoDB to Ruby on Rails 3.1 to Spring 
 Integration to mobile development (iphone and Android) to agile projec
 t management.The Early Bird rate, available through February 15, is $2
 95 per person. \n\nIf you can take advantage of the group discount (4
  colleagues or friends, not necessarily from the same company, registe
 ring at the same time), the Early Bird price goes down to $221 per per
 son.The conference sold out last year.To register: http://phillyemergi
 ngtech.com/2011/registerThe keynote speakers are Molly Holzschlag (web
  standards evangelist) and Stormy Peters (head of developer engagement
  at Mozilla).Session speakers include:    * Dan Allen (Seam, Weld &
  Arquillian project teams; author of Seam in Action)   * Ola Bini (J
 Ruby Core team; author of Practical JRuby on Rails Web 2.0 Projects) 
   * David A. Black (author of Ruby for Rails and The Well-Grounded Ru
 byist)   * Ryan Dahl (creator of Node.js)   * Mark Fisher (Spring 
 Integration project lead; Spring AMQP project co-lead)   * Debasish 
 Ghosh (author of DSLs in Action; Akka contributor)   * Ron Jeffries 
 (co-author of The Agile Manifesto)   * David Kaneda (creator of jQto
 uch)   * Yehuda Katz (SproutCore project team; Rails Core team)   
 * Ted Neward (author of Effective Enterprise Java; co-author of Profes
 sional F#)   * Chris Richardson (Head of Cloud Development, SpringSo
 urce)   * Johanna Rothman (author of Manage It! Your Guide to Modern
 , Pragmatic Project Management)   * Stuart Sierra (Clojure/core team
 ; author of Practial Clojure)    * Jonathan Stark (author of Buildi
 ng iPhone Apps with HTML, CSS, and JavaScript)   * Bruce Tate (autho
 r of Seven Languages in Seven Weeks)    \n   * Jim Weirich (crea
 tor of the Ruby tool, Rake)  The list of confirmed speakers to date 
 is here: http://phillyemergingtech.com/2011/speakersMore speakers and 
 session abstracts will be added over the next few weeks.\n\nFor more i
 nformation visit https://codetown.com/events/emerging-technologies-for
 -the
DTSTART:20110427T040000Z
DTEND:20110429T035900Z
CATEGORIES:conference
LOCATION:Philadelphia, PA
WEBSITE:
URL:
CONTACT:
ORGANIZER;CN="Andrea O. K. Wright":https://codetown.com/profile/Andrea
 OKWright
ATTACH;FMTTYPE="image/jpeg":http://storage.ning.com/topology/rest/1.0/
 file/get/2006944399?profile=original
ATTENDEE;ROLE=REQ-PARTICIPANT;PARTSTAT=ACCEPTED;RSVP=TRUE;CN="Andrea O
 . K. Wright":https://codetown.com/profile/AndreaOKWright
END:VEVENT
END:VCALENDAR
