BEGIN:VCALENDAR
PRODID:NingEventWidget-v1
VERSION:2.0
METHOD:PUBLISH
BEGIN:VEVENT
UID:2197786:Event:53590
DTSTAMP:20260422T113017Z
SUMMARY:DEVNEXUS 2016
DESCRIPTION:DevNexus, the Southeast’s premier annual conference for 
 professional software developers, is back for 2016. The event features
  presentations and demonstrations from global technology leaders in th
 eir respective areas of expertise. Offering a workshop day followed by
  13 concurrent presentation tracks during two full days of sessions in
  Atlanta’s prestigious Georgia’s World Congress Center, attendees 
 have the opportunity to learn more on their favorite technologies; hea
 r about what’s new and on the forefront; and interact and network wi
 th peers, speakers, and event sponsors. 2016 will mark the event’s t
 enth year, with a projected 1800 attendance and is likely once again t
 o be sold out prior to the date of the show. The full schedule can be 
 viewed here https://devnexus.com/s/schedule and in addition to 150 ses
 sions we have 9, yes 9 full day workshops available for you with the a
 bsolute best speakers in the industry. The workshops will be on Monday
  15 February 2016 and the main conference will be on Tuesday 16 to Wed
 nesday 17 February 2016.\n\nFor more information visit https://codetow
 n.com/events/devnexus-2016
DTSTART:20160215T130000Z
DTEND:20160217T230000Z
CATEGORIES:conference
LOCATION:COBBGALLERIA CENTER
WEBSITE:http://devnexus.com
URL:http://devnexus.com
CONTACT:
ORGANIZER:ATLANTA JAVA USERS GROUP
ATTACH;FMTTYPE="image/jpeg":http://storage.ning.com/topology/rest/1.0/
 file/get/2006956070?profile=original
ATTENDEE;ROLE=REQ-PARTICIPANT;PARTSTAT=ACCEPTED;RSVP=TRUE;CN="Vincent 
 Mayers":https://codetown.com/profile/VincentMayers
END:VEVENT
END:VCALENDAR
