BEGIN:VCALENDAR
PRODID:NingEventWidget-v1
VERSION:2.0
METHOD:PUBLISH
BEGIN:VEVENT
UID:2197786:Event:52236
DTSTAMP:20260421T145528Z
SUMMARY:Community Leadership Summit 2015
DESCRIPTION:The Community Leadership Summit 2015 is the sixth incarn
 ation of the primary event that brings together community leaders and
  managers and the projects and organizations that are interested in gr
 owing and empowering a strong community. The event is FREE to attend f
 or everyone. Register here. And, here's a link to a video media page
 . \n\n  The Community Leadership Summit provides an unconference-styl
 e schedule in which attendees can discuss, debate and explore topics. 
 This is augmented with a range of scheduled talks, panel discussions, 
 networking opportunities and more, and all supported by a comprehensiv
 e support community and forum.  The event has become the primary place
  that brings together the leading minds in the field with new communit
 y builders to discuss topics such as governance, creating collaborativ
 e environments, conflict resolution, transparency, open infrastructure
 , innersourcing, social networking, hiring community managers, commerc
 ial investment in community, engineering vs. marketing approaches to c
 ommunity leadership and much more.\n\nHave questions about Community L
 eadership Summit 2015? Contact Community Leadership Summit\n\nThe Com
 munity Leadership Summit was conceived back in 2009 by Jono Bacon, the
  community manager for the global Ubuntu community and author of The 
 Art of Community by O’Reilly and he has organized it each year si
 nce then. Jono is a leading speaker and author on the topic of communi
 ty governance, growth and collaborative development. He put together t
 he summit as a first step in helping community managers and leaders to
  define and refine their work, share knowledge and make connections in
  a vendor neutral way.\n\nSince then he has been joined by a team of o
 rganizers including Dave Nielson (active in the CloudCamp community), 
 Van Riper (organizer of the CLS-West and active Google community manag
 er), Sara Ford, Marsee Henon (community manager and liaison for O’Re
 illy) and others.\n\n\nFor more information visit https://codetown.com
 /events/community-leadership-summit-2015
DTSTART:20150718T130000Z
DTEND:20150719T210000Z
CATEGORIES:conference
LOCATION:Oregon Convention Center
WEBSITE:http://www.communityleadershipsummit.com/
URL:http://www.communityleadershipsummit.com/
CONTACT:
ORGANIZER:Jono Bacon
ATTACH;FMTTYPE="image/jpeg":http://storage.ning.com/topology/rest/1.0/
 file/get/2006952814?profile=original
ATTENDEE;ROLE=REQ-PARTICIPANT;PARTSTAT=ACCEPTED;RSVP=TRUE;CN="Michael 
 Levin":https://codetown.com/profile/MichaelLevin
END:VEVENT
END:VCALENDAR
