BEGIN:VCALENDAR
PRODID:NingEventWidget-v1
VERSION:2.0
METHOD:PUBLISH
BEGIN:VEVENT
UID:2197786:Event:60392
DTSTAMP:20260421T183655Z
SUMMARY:Community Leadership Summit
DESCRIPTION:\n\nFor more information visit https://codetown.com/events
 /community-leadership-summit-1
DTSTART:20180714T040000Z
DTEND:20180716T035900Z
CATEGORIES:conference
LOCATION:Portland, OR
WEBSITE:http://www.communityleadershipsummit.com
URL:http://www.communityleadershipsummit.com
CONTACT:mail@communityleadershipsummit.com
ORGANIZER:Jono Bacon
ATTACH;FMTTYPE="image/jpeg":http://storage.ning.com/topology/rest/1.0/
 file/get/2006961090?profile=original
ATTENDEE;ROLE=REQ-PARTICIPANT;PARTSTAT=TENTATIVE;RSVP=TRUE;CN="Michael
  Levin":https://codetown.com/profile/MichaelLevin
END:VEVENT
END:VCALENDAR
